BEGIN:VCALENDAR
VERSION:2.0
PRODID:-//Sutton Legion - ECPv6.15.20//NONSGML v1.0//EN
CALSCALE:GREGORIAN
METHOD:PUBLISH
X-ORIGINAL-URL:https://suttonlegion.org
X-WR-CALDESC:Events for Sutton Legion
REFRESH-INTERVAL;VALUE=DURATION:PT1H
X-Robots-Tag:noindex
X-PUBLISHED-TTL:PT1H
BEGIN:VTIMEZONE
TZID:America/Toronto
BEGIN:DAYLIGHT
TZOFFSETFROM:-0500
TZOFFSETTO:-0400
TZNAME:EDT
DTSTART:20240310T070000
END:DAYLIGHT
BEGIN:STANDARD
TZOFFSETFROM:-0400
TZOFFSETTO:-0500
TZNAME:EST
DTSTART:20241103T060000
END:STANDARD
BEGIN:DAYLIGHT
TZOFFSETFROM:-0500
TZOFFSETTO:-0400
TZNAME:EDT
DTSTART:20250309T070000
END:DAYLIGHT
BEGIN:STANDARD
TZOFFSETFROM:-0400
TZOFFSETTO:-0500
TZNAME:EST
DTSTART:20251102T060000
END:STANDARD
BEGIN:DAYLIGHT
TZOFFSETFROM:-0500
TZOFFSETTO:-0400
TZNAME:EDT
DTSTART:20260308T070000
END:DAYLIGHT
BEGIN:STANDARD
TZOFFSETFROM:-0400
TZOFFSETTO:-0500
TZNAME:EST
DTSTART:20261101T060000
END:STANDARD
END:VTIMEZONE
BEGIN:VEVENT
DTSTART;TZID=America/Toronto:20251001T150000
DTEND;TZID=America/Toronto:20251001T210000
DTSTAMP:20260423T154834
CREATED:20241220T153620Z
LAST-MODIFIED:20241220T153621Z
UID:10000650-1759330800-1759352400@suttonlegion.org
SUMMARY:Clubroom Open
DESCRIPTION:Stop by for a drink and to socialize.
URL:https://suttonlegion.org/event/clubroom-open-70-5/2025-10-01/
LOCATION:Sutton Legion Branch 356\, 21 East Street\, Sutton\, Ontario\, L0E 1R0\, Canada
END:VEVENT
BEGIN:VEVENT
DTSTART;TZID=America/Toronto:20251001T190000
DTEND;TZID=America/Toronto:20251001T220000
DTSTAMP:20260423T154834
CREATED:20250907T165619Z
LAST-MODIFIED:20250907T165619Z
UID:10002390-1759345200-1759356000@suttonlegion.org
SUMMARY:Progressive Euchre
DESCRIPTION:Join us every Wednesday for Progressive Euchre.
URL:https://suttonlegion.org/event/progressive-euchre/2025-10-01/
LOCATION:Sutton Legion Branch 356\, 21 East Street\, Sutton\, Ontario\, L0E 1R0\, Canada
END:VEVENT
BEGIN:VEVENT
DTSTART;TZID=America/Toronto:20251002T150000
DTEND;TZID=America/Toronto:20251002T210000
DTSTAMP:20260423T154834
CREATED:20230419T182227Z
LAST-MODIFIED:20230419T182228Z
UID:10000911-1759417200-1759438800@suttonlegion.org
SUMMARY:Clubroom Open
DESCRIPTION:Stop by for a drink and to socialize.
URL:https://suttonlegion.org/event/clubroom-open-71-2/2025-10-02/
LOCATION:Sutton Legion Branch 356\, 21 East Street\, Sutton\, Ontario\, L0E 1R0\, Canada
END:VEVENT
BEGIN:VEVENT
DTSTART;TZID=America/Toronto:20251003T150000
DTEND;TZID=America/Toronto:20251003T210000
DTSTAMP:20260423T154834
CREATED:20230419T182257Z
LAST-MODIFIED:20230419T182258Z
UID:10001172-1759503600-1759525200@suttonlegion.org
SUMMARY:Clubroom Open
DESCRIPTION:Stop by for a drink and to socialize.
URL:https://suttonlegion.org/event/clubroom-open-72-3/2025-10-03/
LOCATION:Sutton Legion Branch 356\, 21 East Street\, Sutton\, Ontario\, L0E 1R0\, Canada
END:VEVENT
BEGIN:VEVENT
DTSTART;TZID=America/Toronto:20251004T120000
DTEND;TZID=America/Toronto:20251004T160000
DTSTAMP:20260423T154834
CREATED:20230208T234419Z
LAST-MODIFIED:20230208T234419Z
UID:10001433-1759579200-1759593600@suttonlegion.org
SUMMARY:Clubroom Open
DESCRIPTION:Stop by for a drink and to socialize.
URL:https://suttonlegion.org/event/clubroom-open-73/2025-10-04/
LOCATION:Sutton Legion Branch 356\, 21 East Street\, Sutton\, Ontario\, L0E 1R0\, Canada
END:VEVENT
BEGIN:VEVENT
DTSTART;TZID=America/Toronto:20251007T150000
DTEND;TZID=America/Toronto:20251007T210000
DTSTAMP:20260423T154834
CREATED:20230419T182122Z
LAST-MODIFIED:20230626T165321Z
UID:10001817-1759849200-1759870800@suttonlegion.org
SUMMARY:Clubroom Open
DESCRIPTION:Stop by for a drink and to socialize.
URL:https://suttonlegion.org/event/clubroom-open-69-2/2025-10-07/
LOCATION:Sutton Legion Branch 356\, 21 East Street\, Sutton\, Ontario\, L0E 1R0\, Canada
END:VEVENT
BEGIN:VEVENT
DTSTART;TZID=America/Toronto:20251008T150000
DTEND;TZID=America/Toronto:20251008T210000
DTSTAMP:20260423T154834
CREATED:20241220T153620Z
LAST-MODIFIED:20241220T153621Z
UID:10000651-1759935600-1759957200@suttonlegion.org
SUMMARY:Clubroom Open
DESCRIPTION:Stop by for a drink and to socialize.
URL:https://suttonlegion.org/event/clubroom-open-70-5/2025-10-08/
LOCATION:Sutton Legion Branch 356\, 21 East Street\, Sutton\, Ontario\, L0E 1R0\, Canada
END:VEVENT
BEGIN:VEVENT
DTSTART;TZID=America/Toronto:20251008T190000
DTEND;TZID=America/Toronto:20251008T220000
DTSTAMP:20260423T154834
CREATED:20250907T165619Z
LAST-MODIFIED:20250907T165619Z
UID:10002391-1759950000-1759960800@suttonlegion.org
SUMMARY:Progressive Euchre
DESCRIPTION:Join us every Wednesday for Progressive Euchre.
URL:https://suttonlegion.org/event/progressive-euchre/2025-10-08/
LOCATION:Sutton Legion Branch 356\, 21 East Street\, Sutton\, Ontario\, L0E 1R0\, Canada
END:VEVENT
BEGIN:VEVENT
DTSTART;TZID=America/Toronto:20251009T150000
DTEND;TZID=America/Toronto:20251009T210000
DTSTAMP:20260423T154834
CREATED:20230419T182227Z
LAST-MODIFIED:20230419T182228Z
UID:10000912-1760022000-1760043600@suttonlegion.org
SUMMARY:Clubroom Open
DESCRIPTION:Stop by for a drink and to socialize.
URL:https://suttonlegion.org/event/clubroom-open-71-2/2025-10-09/
LOCATION:Sutton Legion Branch 356\, 21 East Street\, Sutton\, Ontario\, L0E 1R0\, Canada
END:VEVENT
BEGIN:VEVENT
DTSTART;TZID=America/Toronto:20251010T150000
DTEND;TZID=America/Toronto:20251010T210000
DTSTAMP:20260423T154834
CREATED:20230419T182257Z
LAST-MODIFIED:20230419T182258Z
UID:10001173-1760108400-1760130000@suttonlegion.org
SUMMARY:Clubroom Open
DESCRIPTION:Stop by for a drink and to socialize.
URL:https://suttonlegion.org/event/clubroom-open-72-3/2025-10-10/
LOCATION:Sutton Legion Branch 356\, 21 East Street\, Sutton\, Ontario\, L0E 1R0\, Canada
END:VEVENT
BEGIN:VEVENT
DTSTART;TZID=America/Toronto:20251011T120000
DTEND;TZID=America/Toronto:20251011T160000
DTSTAMP:20260423T154834
CREATED:20230208T234419Z
LAST-MODIFIED:20230208T234419Z
UID:10001434-1760184000-1760198400@suttonlegion.org
SUMMARY:Clubroom Open
DESCRIPTION:Stop by for a drink and to socialize.
URL:https://suttonlegion.org/event/clubroom-open-73/2025-10-11/
LOCATION:Sutton Legion Branch 356\, 21 East Street\, Sutton\, Ontario\, L0E 1R0\, Canada
END:VEVENT
BEGIN:VEVENT
DTSTART;TZID=America/Toronto:20251014T150000
DTEND;TZID=America/Toronto:20251014T210000
DTSTAMP:20260423T154834
CREATED:20230419T182122Z
LAST-MODIFIED:20230626T165321Z
UID:10001818-1760454000-1760475600@suttonlegion.org
SUMMARY:Clubroom Open
DESCRIPTION:Stop by for a drink and to socialize.
URL:https://suttonlegion.org/event/clubroom-open-69-2/2025-10-14/
LOCATION:Sutton Legion Branch 356\, 21 East Street\, Sutton\, Ontario\, L0E 1R0\, Canada
END:VEVENT
BEGIN:VEVENT
DTSTART;TZID=America/Toronto:20251015T150000
DTEND;TZID=America/Toronto:20251015T210000
DTSTAMP:20260423T154834
CREATED:20241220T153620Z
LAST-MODIFIED:20241220T153621Z
UID:10000652-1760540400-1760562000@suttonlegion.org
SUMMARY:Clubroom Open
DESCRIPTION:Stop by for a drink and to socialize.
URL:https://suttonlegion.org/event/clubroom-open-70-5/2025-10-15/
LOCATION:Sutton Legion Branch 356\, 21 East Street\, Sutton\, Ontario\, L0E 1R0\, Canada
END:VEVENT
BEGIN:VEVENT
DTSTART;TZID=America/Toronto:20251015T190000
DTEND;TZID=America/Toronto:20251015T220000
DTSTAMP:20260423T154834
CREATED:20250907T165619Z
LAST-MODIFIED:20250907T165619Z
UID:10002392-1760554800-1760565600@suttonlegion.org
SUMMARY:Progressive Euchre
DESCRIPTION:Join us every Wednesday for Progressive Euchre.
URL:https://suttonlegion.org/event/progressive-euchre/2025-10-15/
LOCATION:Sutton Legion Branch 356\, 21 East Street\, Sutton\, Ontario\, L0E 1R0\, Canada
END:VEVENT
BEGIN:VEVENT
DTSTART;TZID=America/Toronto:20251016T150000
DTEND;TZID=America/Toronto:20251016T210000
DTSTAMP:20260423T154834
CREATED:20230419T182227Z
LAST-MODIFIED:20230419T182228Z
UID:10000913-1760626800-1760648400@suttonlegion.org
SUMMARY:Clubroom Open
DESCRIPTION:Stop by for a drink and to socialize.
URL:https://suttonlegion.org/event/clubroom-open-71-2/2025-10-16/
LOCATION:Sutton Legion Branch 356\, 21 East Street\, Sutton\, Ontario\, L0E 1R0\, Canada
END:VEVENT
BEGIN:VEVENT
DTSTART;TZID=America/Toronto:20251017T150000
DTEND;TZID=America/Toronto:20251017T210000
DTSTAMP:20260423T154834
CREATED:20230419T182257Z
LAST-MODIFIED:20230419T182258Z
UID:10001174-1760713200-1760734800@suttonlegion.org
SUMMARY:Clubroom Open
DESCRIPTION:Stop by for a drink and to socialize.
URL:https://suttonlegion.org/event/clubroom-open-72-3/2025-10-17/
LOCATION:Sutton Legion Branch 356\, 21 East Street\, Sutton\, Ontario\, L0E 1R0\, Canada
END:VEVENT
BEGIN:VEVENT
DTSTART;TZID=America/Toronto:20251018T120000
DTEND;TZID=America/Toronto:20251018T160000
DTSTAMP:20260423T154834
CREATED:20230208T234419Z
LAST-MODIFIED:20230208T234419Z
UID:10001435-1760788800-1760803200@suttonlegion.org
SUMMARY:Clubroom Open
DESCRIPTION:Stop by for a drink and to socialize.
URL:https://suttonlegion.org/event/clubroom-open-73/2025-10-18/
LOCATION:Sutton Legion Branch 356\, 21 East Street\, Sutton\, Ontario\, L0E 1R0\, Canada
END:VEVENT
BEGIN:VEVENT
DTSTART;TZID=America/Toronto:20251021T150000
DTEND;TZID=America/Toronto:20251021T210000
DTSTAMP:20260423T154834
CREATED:20230419T182122Z
LAST-MODIFIED:20230626T165321Z
UID:10001819-1761058800-1761080400@suttonlegion.org
SUMMARY:Clubroom Open
DESCRIPTION:Stop by for a drink and to socialize.
URL:https://suttonlegion.org/event/clubroom-open-69-2/2025-10-21/
LOCATION:Sutton Legion Branch 356\, 21 East Street\, Sutton\, Ontario\, L0E 1R0\, Canada
END:VEVENT
BEGIN:VEVENT
DTSTART;TZID=America/Toronto:20251022T150000
DTEND;TZID=America/Toronto:20251022T210000
DTSTAMP:20260423T154834
CREATED:20241220T153620Z
LAST-MODIFIED:20241220T153621Z
UID:10000653-1761145200-1761166800@suttonlegion.org
SUMMARY:Clubroom Open
DESCRIPTION:Stop by for a drink and to socialize.
URL:https://suttonlegion.org/event/clubroom-open-70-5/2025-10-22/
LOCATION:Sutton Legion Branch 356\, 21 East Street\, Sutton\, Ontario\, L0E 1R0\, Canada
END:VEVENT
BEGIN:VEVENT
DTSTART;TZID=America/Toronto:20251022T190000
DTEND;TZID=America/Toronto:20251022T220000
DTSTAMP:20260423T154834
CREATED:20250907T165619Z
LAST-MODIFIED:20250907T165619Z
UID:10002393-1761159600-1761170400@suttonlegion.org
SUMMARY:Progressive Euchre
DESCRIPTION:Join us every Wednesday for Progressive Euchre.
URL:https://suttonlegion.org/event/progressive-euchre/2025-10-22/
LOCATION:Sutton Legion Branch 356\, 21 East Street\, Sutton\, Ontario\, L0E 1R0\, Canada
END:VEVENT
BEGIN:VEVENT
DTSTART;TZID=America/Toronto:20251023T150000
DTEND;TZID=America/Toronto:20251023T210000
DTSTAMP:20260423T154834
CREATED:20230419T182227Z
LAST-MODIFIED:20230419T182228Z
UID:10000914-1761231600-1761253200@suttonlegion.org
SUMMARY:Clubroom Open
DESCRIPTION:Stop by for a drink and to socialize.
URL:https://suttonlegion.org/event/clubroom-open-71-2/2025-10-23/
LOCATION:Sutton Legion Branch 356\, 21 East Street\, Sutton\, Ontario\, L0E 1R0\, Canada
END:VEVENT
BEGIN:VEVENT
DTSTART;TZID=America/Toronto:20251024T150000
DTEND;TZID=America/Toronto:20251024T210000
DTSTAMP:20260423T154834
CREATED:20230419T182257Z
LAST-MODIFIED:20230419T182258Z
UID:10001175-1761318000-1761339600@suttonlegion.org
SUMMARY:Clubroom Open
DESCRIPTION:Stop by for a drink and to socialize.
URL:https://suttonlegion.org/event/clubroom-open-72-3/2025-10-24/
LOCATION:Sutton Legion Branch 356\, 21 East Street\, Sutton\, Ontario\, L0E 1R0\, Canada
END:VEVENT
BEGIN:VEVENT
DTSTART;TZID=America/Toronto:20251025T120000
DTEND;TZID=America/Toronto:20251025T160000
DTSTAMP:20260423T154834
CREATED:20230208T234419Z
LAST-MODIFIED:20230208T234419Z
UID:10001436-1761393600-1761408000@suttonlegion.org
SUMMARY:Clubroom Open
DESCRIPTION:Stop by for a drink and to socialize.
URL:https://suttonlegion.org/event/clubroom-open-73/2025-10-25/
LOCATION:Sutton Legion Branch 356\, 21 East Street\, Sutton\, Ontario\, L0E 1R0\, Canada
END:VEVENT
BEGIN:VEVENT
DTSTART;TZID=America/Toronto:20251027T190000
DTEND;TZID=America/Toronto:20251027T210000
DTSTAMP:20260423T154834
CREATED:20230215T190820Z
LAST-MODIFIED:20230215T190820Z
UID:10001588-1761591600-1761598800@suttonlegion.org
SUMMARY:General Meeting
DESCRIPTION:Join us for our general meeting.
URL:https://suttonlegion.org/event/general-meeting-6/2025-10-27/
LOCATION:Sutton Legion Branch 356\, 21 East Street\, Sutton\, Ontario\, L0E 1R0\, Canada
END:VEVENT
BEGIN:VEVENT
DTSTART;TZID=America/Toronto:20251028T150000
DTEND;TZID=America/Toronto:20251028T210000
DTSTAMP:20260423T154834
CREATED:20230419T182122Z
LAST-MODIFIED:20230626T165321Z
UID:10001820-1761663600-1761685200@suttonlegion.org
SUMMARY:Clubroom Open
DESCRIPTION:Stop by for a drink and to socialize.
URL:https://suttonlegion.org/event/clubroom-open-69-2/2025-10-28/
LOCATION:Sutton Legion Branch 356\, 21 East Street\, Sutton\, Ontario\, L0E 1R0\, Canada
END:VEVENT
BEGIN:VEVENT
DTSTART;TZID=America/Toronto:20251029T150000
DTEND;TZID=America/Toronto:20251029T210000
DTSTAMP:20260423T154834
CREATED:20241220T153620Z
LAST-MODIFIED:20241220T153621Z
UID:10000654-1761750000-1761771600@suttonlegion.org
SUMMARY:Clubroom Open
DESCRIPTION:Stop by for a drink and to socialize.
URL:https://suttonlegion.org/event/clubroom-open-70-5/2025-10-29/
LOCATION:Sutton Legion Branch 356\, 21 East Street\, Sutton\, Ontario\, L0E 1R0\, Canada
END:VEVENT
BEGIN:VEVENT
DTSTART;TZID=America/Toronto:20251029T190000
DTEND;TZID=America/Toronto:20251029T220000
DTSTAMP:20260423T154834
CREATED:20250907T165619Z
LAST-MODIFIED:20250907T165619Z
UID:10002394-1761764400-1761775200@suttonlegion.org
SUMMARY:Progressive Euchre
DESCRIPTION:Join us every Wednesday for Progressive Euchre.
URL:https://suttonlegion.org/event/progressive-euchre/2025-10-29/
LOCATION:Sutton Legion Branch 356\, 21 East Street\, Sutton\, Ontario\, L0E 1R0\, Canada
END:VEVENT
BEGIN:VEVENT
DTSTART;TZID=America/Toronto:20251030T150000
DTEND;TZID=America/Toronto:20251030T210000
DTSTAMP:20260423T154834
CREATED:20230419T182227Z
LAST-MODIFIED:20230419T182228Z
UID:10000915-1761836400-1761858000@suttonlegion.org
SUMMARY:Clubroom Open
DESCRIPTION:Stop by for a drink and to socialize.
URL:https://suttonlegion.org/event/clubroom-open-71-2/2025-10-30/
LOCATION:Sutton Legion Branch 356\, 21 East Street\, Sutton\, Ontario\, L0E 1R0\, Canada
END:VEVENT
BEGIN:VEVENT
DTSTART;TZID=America/Toronto:20251031T150000
DTEND;TZID=America/Toronto:20251031T210000
DTSTAMP:20260423T154834
CREATED:20230419T182257Z
LAST-MODIFIED:20230419T182258Z
UID:10001176-1761922800-1761944400@suttonlegion.org
SUMMARY:Clubroom Open
DESCRIPTION:Stop by for a drink and to socialize.
URL:https://suttonlegion.org/event/clubroom-open-72-3/2025-10-31/
LOCATION:Sutton Legion Branch 356\, 21 East Street\, Sutton\, Ontario\, L0E 1R0\, Canada
END:VEVENT
END:VCALENDAR