BEGIN:VCALENDAR
VERSION:2.0
PRODID:-//Sutton Legion - ECPv6.15.20//NONSGML v1.0//EN
CALSCALE:GREGORIAN
METHOD:PUBLISH
X-ORIGINAL-URL:https://suttonlegion.org
X-WR-CALDESC:Events for Sutton Legion
REFRESH-INTERVAL;VALUE=DURATION:PT1H
X-Robots-Tag:noindex
X-PUBLISHED-TTL:PT1H
BEGIN:VTIMEZONE
TZID:America/Toronto
BEGIN:DAYLIGHT
TZOFFSETFROM:-0500
TZOFFSETTO:-0400
TZNAME:EDT
DTSTART:20250309T070000
END:DAYLIGHT
BEGIN:STANDARD
TZOFFSETFROM:-0400
TZOFFSETTO:-0500
TZNAME:EST
DTSTART:20251102T060000
END:STANDARD
BEGIN:DAYLIGHT
TZOFFSETFROM:-0500
TZOFFSETTO:-0400
TZNAME:EDT
DTSTART:20260308T070000
END:DAYLIGHT
BEGIN:STANDARD
TZOFFSETFROM:-0400
TZOFFSETTO:-0500
TZNAME:EST
DTSTART:20261101T060000
END:STANDARD
BEGIN:DAYLIGHT
TZOFFSETFROM:-0500
TZOFFSETTO:-0400
TZNAME:EDT
DTSTART:20270314T070000
END:DAYLIGHT
BEGIN:STANDARD
TZOFFSETFROM:-0400
TZOFFSETTO:-0500
TZNAME:EST
DTSTART:20271107T060000
END:STANDARD
END:VTIMEZONE
BEGIN:VEVENT
DTSTART;TZID=America/Toronto:20260520T190000
DTEND;TZID=America/Toronto:20260520T220000
DTSTAMP:20260423T144404
CREATED:20251209T182321Z
LAST-MODIFIED:20251209T182321Z
UID:10002423-1779303600-1779314400@suttonlegion.org
SUMMARY:Progressive Euchre
DESCRIPTION:Join us every Wednesday for Progressive Euchre.
URL:https://suttonlegion.org/event/progressive-euchre-2/2026-05-20/
LOCATION:Sutton Legion Branch 356\, 21 East Street\, Sutton\, Ontario\, L0E 1R0\, Canada
END:VEVENT
BEGIN:VEVENT
DTSTART;TZID=America/Toronto:20260521T150000
DTEND;TZID=America/Toronto:20260521T210000
DTSTAMP:20260423T144404
CREATED:20260115T190337Z
LAST-MODIFIED:20260115T190338Z
UID:10000944-1779375600-1779397200@suttonlegion.org
SUMMARY:Clubroom Open
DESCRIPTION:Stop by for a drink and to socialize.
URL:https://suttonlegion.org/event/clubroom-open-71-2-6/2026-05-21/
LOCATION:Sutton Legion Branch 356\, 21 East Street\, Sutton\, Ontario\, L0E 1R0\, Canada
END:VEVENT
BEGIN:VEVENT
DTSTART;TZID=America/Toronto:20260522T150000
DTEND;TZID=America/Toronto:20260522T210000
DTSTAMP:20260423T144404
CREATED:20251210T131559Z
LAST-MODIFIED:20251210T131559Z
UID:10001205-1779462000-1779483600@suttonlegion.org
SUMMARY:Clubroom Open
DESCRIPTION:Stop by for a drink and to socialize.
URL:https://suttonlegion.org/event/clubroom-open-72-3-4/2026-05-22/
LOCATION:Sutton Legion Branch 356\, 21 East Street\, Sutton\, Ontario\, L0E 1R0\, Canada
END:VEVENT
BEGIN:VEVENT
DTSTART;TZID=America/Toronto:20260522T170000
DTEND;TZID=America/Toronto:20260522T183000
DTSTAMP:20260423T144404
CREATED:20260330T135537Z
LAST-MODIFIED:20260330T135605Z
UID:10002901-1779469200-1779474600@suttonlegion.org
SUMMARY:Friday Night Dinner
DESCRIPTION:Join us for scrumptious and cost friendly meals. $18 per meal unless otherwise indicated. Eat in or take out\, while supplies last. \nSee Facebook or the Legion Club Room for monthly menus. \n \n  \n 
URL:https://suttonlegion.org/event/friday-night-dinners-2/2026-05-22/
LOCATION:Sutton Legion Branch 356\, 21 East Street\, Sutton\, Ontario\, L0E 1R0\, Canada
END:VEVENT
BEGIN:VEVENT
DTSTART;TZID=America/Toronto:20260523T120000
DTEND;TZID=America/Toronto:20260523T160000
DTSTAMP:20260423T144404
CREATED:20230208T234419Z
LAST-MODIFIED:20230208T234419Z
UID:10001466-1779537600-1779552000@suttonlegion.org
SUMMARY:Clubroom Open
DESCRIPTION:Stop by for a drink and to socialize.
URL:https://suttonlegion.org/event/clubroom-open-73/2026-05-23/
LOCATION:Sutton Legion Branch 356\, 21 East Street\, Sutton\, Ontario\, L0E 1R0\, Canada
END:VEVENT
BEGIN:VEVENT
DTSTART;TZID=America/Toronto:20260525T190000
DTEND;TZID=America/Toronto:20260525T210000
DTSTAMP:20260423T144404
CREATED:20230215T190820Z
LAST-MODIFIED:20230215T190820Z
UID:10001595-1779735600-1779742800@suttonlegion.org
SUMMARY:General Meeting
DESCRIPTION:Join us for our general meeting.
URL:https://suttonlegion.org/event/general-meeting-6/2026-05-25/
LOCATION:Sutton Legion Branch 356\, 21 East Street\, Sutton\, Ontario\, L0E 1R0\, Canada
END:VEVENT
BEGIN:VEVENT
DTSTART;TZID=America/Toronto:20260526T150000
DTEND;TZID=America/Toronto:20260526T210000
DTSTAMP:20260423T144404
CREATED:20260114T190322Z
LAST-MODIFIED:20260114T190323Z
UID:10001850-1779807600-1779829200@suttonlegion.org
SUMMARY:Clubroom Open
DESCRIPTION:Stop by for a drink and to socialize.
URL:https://suttonlegion.org/event/clubroom-open-69-2-7-3/2026-05-26/
LOCATION:Sutton Legion Branch 356\, 21 East Street\, Sutton\, Ontario\, L0E 1R0\, Canada
END:VEVENT
BEGIN:VEVENT
DTSTART;TZID=America/Toronto:20260526T180000
DTEND;TZID=America/Toronto:20260526T200000
DTSTAMP:20260423T144404
CREATED:20260114T190929Z
LAST-MODIFIED:20260114T190929Z
UID:10002949-1779818400-1779825600@suttonlegion.org
SUMMARY:Song Circle
DESCRIPTION:Bring your Instruments or sit back and enjoy
URL:https://suttonlegion.org/event/song-circle/2026-05-26/
LOCATION:Sutton Legion Branch 356\, 21 East Street\, Sutton\, Ontario\, L0E 1R0\, Canada
END:VEVENT
BEGIN:VEVENT
DTSTART;TZID=America/Toronto:20260527T150000
DTEND;TZID=America/Toronto:20260527T210000
DTSTAMP:20260423T144404
CREATED:20251209T182621Z
LAST-MODIFIED:20251209T182708Z
UID:10000684-1779894000-1779915600@suttonlegion.org
SUMMARY:Clubroom Open
DESCRIPTION:Stop by for a drink and to socialize.
URL:https://suttonlegion.org/event/clubroom-open-70-5-2/2026-05-27/
LOCATION:Sutton Legion Branch 356\, 21 East Street\, Sutton\, Ontario\, L0E 1R0\, Canada
END:VEVENT
BEGIN:VEVENT
DTSTART;TZID=America/Toronto:20260527T190000
DTEND;TZID=America/Toronto:20260527T220000
DTSTAMP:20260423T144404
CREATED:20251209T182321Z
LAST-MODIFIED:20251209T182321Z
UID:10002424-1779908400-1779919200@suttonlegion.org
SUMMARY:Progressive Euchre
DESCRIPTION:Join us every Wednesday for Progressive Euchre.
URL:https://suttonlegion.org/event/progressive-euchre-2/2026-05-27/
LOCATION:Sutton Legion Branch 356\, 21 East Street\, Sutton\, Ontario\, L0E 1R0\, Canada
END:VEVENT
BEGIN:VEVENT
DTSTART;TZID=America/Toronto:20260528T150000
DTEND;TZID=America/Toronto:20260528T210000
DTSTAMP:20260423T144404
CREATED:20260115T190337Z
LAST-MODIFIED:20260115T190338Z
UID:10000945-1779980400-1780002000@suttonlegion.org
SUMMARY:Clubroom Open
DESCRIPTION:Stop by for a drink and to socialize.
URL:https://suttonlegion.org/event/clubroom-open-71-2-6/2026-05-28/
LOCATION:Sutton Legion Branch 356\, 21 East Street\, Sutton\, Ontario\, L0E 1R0\, Canada
END:VEVENT
BEGIN:VEVENT
DTSTART;TZID=America/Toronto:20260529T150000
DTEND;TZID=America/Toronto:20260529T210000
DTSTAMP:20260423T144404
CREATED:20251210T131559Z
LAST-MODIFIED:20251210T131559Z
UID:10001206-1780066800-1780088400@suttonlegion.org
SUMMARY:Clubroom Open
DESCRIPTION:Stop by for a drink and to socialize.
URL:https://suttonlegion.org/event/clubroom-open-72-3-4/2026-05-29/
LOCATION:Sutton Legion Branch 356\, 21 East Street\, Sutton\, Ontario\, L0E 1R0\, Canada
END:VEVENT
BEGIN:VEVENT
DTSTART;TZID=America/Toronto:20260529T170000
DTEND;TZID=America/Toronto:20260529T183000
DTSTAMP:20260423T144404
CREATED:20260330T135537Z
LAST-MODIFIED:20260330T135605Z
UID:10002902-1780074000-1780079400@suttonlegion.org
SUMMARY:Friday Night Dinner
DESCRIPTION:Join us for scrumptious and cost friendly meals. $18 per meal unless otherwise indicated. Eat in or take out\, while supplies last. \nSee Facebook or the Legion Club Room for monthly menus. \n \n  \n 
URL:https://suttonlegion.org/event/friday-night-dinners-2/2026-05-29/
LOCATION:Sutton Legion Branch 356\, 21 East Street\, Sutton\, Ontario\, L0E 1R0\, Canada
END:VEVENT
BEGIN:VEVENT
DTSTART;TZID=America/Toronto:20260530T120000
DTEND;TZID=America/Toronto:20260530T160000
DTSTAMP:20260423T144404
CREATED:20230208T234419Z
LAST-MODIFIED:20230208T234419Z
UID:10001467-1780142400-1780156800@suttonlegion.org
SUMMARY:Clubroom Open
DESCRIPTION:Stop by for a drink and to socialize.
URL:https://suttonlegion.org/event/clubroom-open-73/2026-05-30/
LOCATION:Sutton Legion Branch 356\, 21 East Street\, Sutton\, Ontario\, L0E 1R0\, Canada
END:VEVENT
BEGIN:VEVENT
DTSTART;TZID=America/Toronto:20260602T150000
DTEND;TZID=America/Toronto:20260602T210000
DTSTAMP:20260423T144404
CREATED:20260114T190322Z
LAST-MODIFIED:20260114T190323Z
UID:10001851-1780412400-1780434000@suttonlegion.org
SUMMARY:Clubroom Open
DESCRIPTION:Stop by for a drink and to socialize.
URL:https://suttonlegion.org/event/clubroom-open-69-2-7-3/2026-06-02/
LOCATION:Sutton Legion Branch 356\, 21 East Street\, Sutton\, Ontario\, L0E 1R0\, Canada
END:VEVENT
BEGIN:VEVENT
DTSTART;TZID=America/Toronto:20260602T180000
DTEND;TZID=America/Toronto:20260602T200000
DTSTAMP:20260423T144404
CREATED:20260114T190929Z
LAST-MODIFIED:20260114T190929Z
UID:10002950-1780423200-1780430400@suttonlegion.org
SUMMARY:Song Circle
DESCRIPTION:Bring your Instruments or sit back and enjoy
URL:https://suttonlegion.org/event/song-circle/2026-06-02/
LOCATION:Sutton Legion Branch 356\, 21 East Street\, Sutton\, Ontario\, L0E 1R0\, Canada
END:VEVENT
BEGIN:VEVENT
DTSTART;TZID=America/Toronto:20260603T150000
DTEND;TZID=America/Toronto:20260603T210000
DTSTAMP:20260423T144404
CREATED:20251209T182621Z
LAST-MODIFIED:20251209T182708Z
UID:10000685-1780498800-1780520400@suttonlegion.org
SUMMARY:Clubroom Open
DESCRIPTION:Stop by for a drink and to socialize.
URL:https://suttonlegion.org/event/clubroom-open-70-5-2/2026-06-03/
LOCATION:Sutton Legion Branch 356\, 21 East Street\, Sutton\, Ontario\, L0E 1R0\, Canada
END:VEVENT
BEGIN:VEVENT
DTSTART;TZID=America/Toronto:20260603T190000
DTEND;TZID=America/Toronto:20260603T220000
DTSTAMP:20260423T144404
CREATED:20251209T182321Z
LAST-MODIFIED:20251209T182321Z
UID:10002425-1780513200-1780524000@suttonlegion.org
SUMMARY:Progressive Euchre
DESCRIPTION:Join us every Wednesday for Progressive Euchre.
URL:https://suttonlegion.org/event/progressive-euchre-2/2026-06-03/
LOCATION:Sutton Legion Branch 356\, 21 East Street\, Sutton\, Ontario\, L0E 1R0\, Canada
END:VEVENT
BEGIN:VEVENT
DTSTART;TZID=America/Toronto:20260604T150000
DTEND;TZID=America/Toronto:20260604T210000
DTSTAMP:20260423T144404
CREATED:20260115T190337Z
LAST-MODIFIED:20260115T190338Z
UID:10000946-1780585200-1780606800@suttonlegion.org
SUMMARY:Clubroom Open
DESCRIPTION:Stop by for a drink and to socialize.
URL:https://suttonlegion.org/event/clubroom-open-71-2-6/2026-06-04/
LOCATION:Sutton Legion Branch 356\, 21 East Street\, Sutton\, Ontario\, L0E 1R0\, Canada
END:VEVENT
BEGIN:VEVENT
DTSTART;TZID=America/Toronto:20260605T150000
DTEND;TZID=America/Toronto:20260605T210000
DTSTAMP:20260423T144404
CREATED:20251210T131559Z
LAST-MODIFIED:20251210T131559Z
UID:10001207-1780671600-1780693200@suttonlegion.org
SUMMARY:Clubroom Open
DESCRIPTION:Stop by for a drink and to socialize.
URL:https://suttonlegion.org/event/clubroom-open-72-3-4/2026-06-05/
LOCATION:Sutton Legion Branch 356\, 21 East Street\, Sutton\, Ontario\, L0E 1R0\, Canada
END:VEVENT
BEGIN:VEVENT
DTSTART;TZID=America/Toronto:20260605T170000
DTEND;TZID=America/Toronto:20260605T183000
DTSTAMP:20260423T144404
CREATED:20260330T135537Z
LAST-MODIFIED:20260330T135605Z
UID:10002903-1780678800-1780684200@suttonlegion.org
SUMMARY:Friday Night Dinner
DESCRIPTION:Join us for scrumptious and cost friendly meals. $18 per meal unless otherwise indicated. Eat in or take out\, while supplies last. \nSee Facebook or the Legion Club Room for monthly menus. \n \n  \n 
URL:https://suttonlegion.org/event/friday-night-dinners-2/2026-06-05/
LOCATION:Sutton Legion Branch 356\, 21 East Street\, Sutton\, Ontario\, L0E 1R0\, Canada
END:VEVENT
BEGIN:VEVENT
DTSTART;TZID=America/Toronto:20260606T120000
DTEND;TZID=America/Toronto:20260606T160000
DTSTAMP:20260423T144404
CREATED:20230208T234419Z
LAST-MODIFIED:20230208T234419Z
UID:10001468-1780747200-1780761600@suttonlegion.org
SUMMARY:Clubroom Open
DESCRIPTION:Stop by for a drink and to socialize.
URL:https://suttonlegion.org/event/clubroom-open-73/2026-06-06/
LOCATION:Sutton Legion Branch 356\, 21 East Street\, Sutton\, Ontario\, L0E 1R0\, Canada
END:VEVENT
BEGIN:VEVENT
DTSTART;TZID=America/Toronto:20260609T150000
DTEND;TZID=America/Toronto:20260609T210000
DTSTAMP:20260423T144404
CREATED:20260114T190322Z
LAST-MODIFIED:20260114T190323Z
UID:10001852-1781017200-1781038800@suttonlegion.org
SUMMARY:Clubroom Open
DESCRIPTION:Stop by for a drink and to socialize.
URL:https://suttonlegion.org/event/clubroom-open-69-2-7-3/2026-06-09/
LOCATION:Sutton Legion Branch 356\, 21 East Street\, Sutton\, Ontario\, L0E 1R0\, Canada
END:VEVENT
BEGIN:VEVENT
DTSTART;TZID=America/Toronto:20260609T180000
DTEND;TZID=America/Toronto:20260609T200000
DTSTAMP:20260423T144404
CREATED:20260114T190929Z
LAST-MODIFIED:20260114T190929Z
UID:10002951-1781028000-1781035200@suttonlegion.org
SUMMARY:Song Circle
DESCRIPTION:Bring your Instruments or sit back and enjoy
URL:https://suttonlegion.org/event/song-circle/2026-06-09/
LOCATION:Sutton Legion Branch 356\, 21 East Street\, Sutton\, Ontario\, L0E 1R0\, Canada
END:VEVENT
BEGIN:VEVENT
DTSTART;TZID=America/Toronto:20260610T150000
DTEND;TZID=America/Toronto:20260610T210000
DTSTAMP:20260423T144404
CREATED:20251209T182621Z
LAST-MODIFIED:20251209T182708Z
UID:10000686-1781103600-1781125200@suttonlegion.org
SUMMARY:Clubroom Open
DESCRIPTION:Stop by for a drink and to socialize.
URL:https://suttonlegion.org/event/clubroom-open-70-5-2/2026-06-10/
LOCATION:Sutton Legion Branch 356\, 21 East Street\, Sutton\, Ontario\, L0E 1R0\, Canada
END:VEVENT
BEGIN:VEVENT
DTSTART;TZID=America/Toronto:20260610T190000
DTEND;TZID=America/Toronto:20260610T220000
DTSTAMP:20260423T144404
CREATED:20251209T182321Z
LAST-MODIFIED:20251209T182321Z
UID:10002426-1781118000-1781128800@suttonlegion.org
SUMMARY:Progressive Euchre
DESCRIPTION:Join us every Wednesday for Progressive Euchre.
URL:https://suttonlegion.org/event/progressive-euchre-2/2026-06-10/
LOCATION:Sutton Legion Branch 356\, 21 East Street\, Sutton\, Ontario\, L0E 1R0\, Canada
END:VEVENT
BEGIN:VEVENT
DTSTART;TZID=America/Toronto:20260611T150000
DTEND;TZID=America/Toronto:20260611T210000
DTSTAMP:20260423T144404
CREATED:20260115T190337Z
LAST-MODIFIED:20260115T190338Z
UID:10000947-1781190000-1781211600@suttonlegion.org
SUMMARY:Clubroom Open
DESCRIPTION:Stop by for a drink and to socialize.
URL:https://suttonlegion.org/event/clubroom-open-71-2-6/2026-06-11/
LOCATION:Sutton Legion Branch 356\, 21 East Street\, Sutton\, Ontario\, L0E 1R0\, Canada
END:VEVENT
BEGIN:VEVENT
DTSTART;TZID=America/Toronto:20260612T150000
DTEND;TZID=America/Toronto:20260612T210000
DTSTAMP:20260423T144404
CREATED:20251210T131559Z
LAST-MODIFIED:20251210T131559Z
UID:10001208-1781276400-1781298000@suttonlegion.org
SUMMARY:Clubroom Open
DESCRIPTION:Stop by for a drink and to socialize.
URL:https://suttonlegion.org/event/clubroom-open-72-3-4/2026-06-12/
LOCATION:Sutton Legion Branch 356\, 21 East Street\, Sutton\, Ontario\, L0E 1R0\, Canada
END:VEVENT
BEGIN:VEVENT
DTSTART;TZID=America/Toronto:20260612T170000
DTEND;TZID=America/Toronto:20260612T183000
DTSTAMP:20260423T144404
CREATED:20260330T135537Z
LAST-MODIFIED:20260330T135605Z
UID:10002904-1781283600-1781289000@suttonlegion.org
SUMMARY:Friday Night Dinner
DESCRIPTION:Join us for scrumptious and cost friendly meals. $18 per meal unless otherwise indicated. Eat in or take out\, while supplies last. \nSee Facebook or the Legion Club Room for monthly menus. \n \n  \n 
URL:https://suttonlegion.org/event/friday-night-dinners-2/2026-06-12/
LOCATION:Sutton Legion Branch 356\, 21 East Street\, Sutton\, Ontario\, L0E 1R0\, Canada
END:VEVENT
BEGIN:VEVENT
DTSTART;TZID=America/Toronto:20260613T120000
DTEND;TZID=America/Toronto:20260613T160000
DTSTAMP:20260423T144404
CREATED:20230208T234419Z
LAST-MODIFIED:20230208T234419Z
UID:10001469-1781352000-1781366400@suttonlegion.org
SUMMARY:Clubroom Open
DESCRIPTION:Stop by for a drink and to socialize.
URL:https://suttonlegion.org/event/clubroom-open-73/2026-06-13/
LOCATION:Sutton Legion Branch 356\, 21 East Street\, Sutton\, Ontario\, L0E 1R0\, Canada
END:VEVENT
END:VCALENDAR