BEGIN:VCALENDAR
VERSION:2.0
PRODID:-//Sutton Legion - ECPv6.15.20//NONSGML v1.0//EN
CALSCALE:GREGORIAN
METHOD:PUBLISH
X-ORIGINAL-URL:https://suttonlegion.org
X-WR-CALDESC:Events for Sutton Legion
REFRESH-INTERVAL;VALUE=DURATION:PT1H
X-Robots-Tag:noindex
X-PUBLISHED-TTL:PT1H
BEGIN:VTIMEZONE
TZID:America/Toronto
BEGIN:DAYLIGHT
TZOFFSETFROM:-0500
TZOFFSETTO:-0400
TZNAME:EDT
DTSTART:20250309T070000
END:DAYLIGHT
BEGIN:STANDARD
TZOFFSETFROM:-0400
TZOFFSETTO:-0500
TZNAME:EST
DTSTART:20251102T060000
END:STANDARD
BEGIN:DAYLIGHT
TZOFFSETFROM:-0500
TZOFFSETTO:-0400
TZNAME:EDT
DTSTART:20260308T070000
END:DAYLIGHT
BEGIN:STANDARD
TZOFFSETFROM:-0400
TZOFFSETTO:-0500
TZNAME:EST
DTSTART:20261101T060000
END:STANDARD
BEGIN:DAYLIGHT
TZOFFSETFROM:-0500
TZOFFSETTO:-0400
TZNAME:EDT
DTSTART:20270314T070000
END:DAYLIGHT
BEGIN:STANDARD
TZOFFSETFROM:-0400
TZOFFSETTO:-0500
TZNAME:EST
DTSTART:20271107T060000
END:STANDARD
END:VTIMEZONE
BEGIN:VEVENT
DTSTART;TZID=America/Toronto:20260711T120000
DTEND;TZID=America/Toronto:20260711T160000
DTSTAMP:20260423T152502
CREATED:20230208T234419Z
LAST-MODIFIED:20230208T234419Z
UID:10001473-1783771200-1783785600@suttonlegion.org
SUMMARY:Clubroom Open
DESCRIPTION:Stop by for a drink and to socialize.
URL:https://suttonlegion.org/event/clubroom-open-73/2026-07-11/
LOCATION:Sutton Legion Branch 356\, 21 East Street\, Sutton\, Ontario\, L0E 1R0\, Canada
END:VEVENT
BEGIN:VEVENT
DTSTART;TZID=America/Toronto:20260714T150000
DTEND;TZID=America/Toronto:20260714T210000
DTSTAMP:20260423T152502
CREATED:20260114T190322Z
LAST-MODIFIED:20260114T190323Z
UID:10001857-1784041200-1784062800@suttonlegion.org
SUMMARY:Clubroom Open
DESCRIPTION:Stop by for a drink and to socialize.
URL:https://suttonlegion.org/event/clubroom-open-69-2-7-3/2026-07-14/
LOCATION:Sutton Legion Branch 356\, 21 East Street\, Sutton\, Ontario\, L0E 1R0\, Canada
END:VEVENT
BEGIN:VEVENT
DTSTART;TZID=America/Toronto:20260714T180000
DTEND;TZID=America/Toronto:20260714T200000
DTSTAMP:20260423T152502
CREATED:20260114T190929Z
LAST-MODIFIED:20260114T190929Z
UID:10002956-1784052000-1784059200@suttonlegion.org
SUMMARY:Song Circle
DESCRIPTION:Bring your Instruments or sit back and enjoy
URL:https://suttonlegion.org/event/song-circle/2026-07-14/
LOCATION:Sutton Legion Branch 356\, 21 East Street\, Sutton\, Ontario\, L0E 1R0\, Canada
END:VEVENT
BEGIN:VEVENT
DTSTART;TZID=America/Toronto:20260715T150000
DTEND;TZID=America/Toronto:20260715T210000
DTSTAMP:20260423T152502
CREATED:20251209T182621Z
LAST-MODIFIED:20251209T182708Z
UID:10000691-1784127600-1784149200@suttonlegion.org
SUMMARY:Clubroom Open
DESCRIPTION:Stop by for a drink and to socialize.
URL:https://suttonlegion.org/event/clubroom-open-70-5-2/2026-07-15/
LOCATION:Sutton Legion Branch 356\, 21 East Street\, Sutton\, Ontario\, L0E 1R0\, Canada
END:VEVENT
BEGIN:VEVENT
DTSTART;TZID=America/Toronto:20260715T190000
DTEND;TZID=America/Toronto:20260715T220000
DTSTAMP:20260423T152502
CREATED:20251209T182321Z
LAST-MODIFIED:20251209T182321Z
UID:10002431-1784142000-1784152800@suttonlegion.org
SUMMARY:Progressive Euchre
DESCRIPTION:Join us every Wednesday for Progressive Euchre.
URL:https://suttonlegion.org/event/progressive-euchre-2/2026-07-15/
LOCATION:Sutton Legion Branch 356\, 21 East Street\, Sutton\, Ontario\, L0E 1R0\, Canada
END:VEVENT
BEGIN:VEVENT
DTSTART;TZID=America/Toronto:20260716T150000
DTEND;TZID=America/Toronto:20260716T210000
DTSTAMP:20260423T152502
CREATED:20260115T190337Z
LAST-MODIFIED:20260115T190338Z
UID:10000952-1784214000-1784235600@suttonlegion.org
SUMMARY:Clubroom Open
DESCRIPTION:Stop by for a drink and to socialize.
URL:https://suttonlegion.org/event/clubroom-open-71-2-6/2026-07-16/
LOCATION:Sutton Legion Branch 356\, 21 East Street\, Sutton\, Ontario\, L0E 1R0\, Canada
END:VEVENT
BEGIN:VEVENT
DTSTART;TZID=America/Toronto:20260717T150000
DTEND;TZID=America/Toronto:20260717T210000
DTSTAMP:20260423T152502
CREATED:20251210T131559Z
LAST-MODIFIED:20251210T131559Z
UID:10001213-1784300400-1784322000@suttonlegion.org
SUMMARY:Clubroom Open
DESCRIPTION:Stop by for a drink and to socialize.
URL:https://suttonlegion.org/event/clubroom-open-72-3-4/2026-07-17/
LOCATION:Sutton Legion Branch 356\, 21 East Street\, Sutton\, Ontario\, L0E 1R0\, Canada
END:VEVENT
BEGIN:VEVENT
DTSTART;TZID=America/Toronto:20260717T170000
DTEND;TZID=America/Toronto:20260717T183000
DTSTAMP:20260423T152503
CREATED:20260330T135537Z
LAST-MODIFIED:20260330T135605Z
UID:10002909-1784307600-1784313000@suttonlegion.org
SUMMARY:Friday Night Dinner
DESCRIPTION:Join us for scrumptious and cost friendly meals. $18 per meal unless otherwise indicated. Eat in or take out\, while supplies last. \nSee Facebook or the Legion Club Room for monthly menus. \n \n  \n 
URL:https://suttonlegion.org/event/friday-night-dinners-2/2026-07-17/
LOCATION:Sutton Legion Branch 356\, 21 East Street\, Sutton\, Ontario\, L0E 1R0\, Canada
END:VEVENT
BEGIN:VEVENT
DTSTART;TZID=America/Toronto:20260718T120000
DTEND;TZID=America/Toronto:20260718T160000
DTSTAMP:20260423T152503
CREATED:20230208T234419Z
LAST-MODIFIED:20230208T234419Z
UID:10001474-1784376000-1784390400@suttonlegion.org
SUMMARY:Clubroom Open
DESCRIPTION:Stop by for a drink and to socialize.
URL:https://suttonlegion.org/event/clubroom-open-73/2026-07-18/
LOCATION:Sutton Legion Branch 356\, 21 East Street\, Sutton\, Ontario\, L0E 1R0\, Canada
END:VEVENT
BEGIN:VEVENT
DTSTART;TZID=America/Toronto:20260721T150000
DTEND;TZID=America/Toronto:20260721T210000
DTSTAMP:20260423T152503
CREATED:20260114T190322Z
LAST-MODIFIED:20260114T190323Z
UID:10001858-1784646000-1784667600@suttonlegion.org
SUMMARY:Clubroom Open
DESCRIPTION:Stop by for a drink and to socialize.
URL:https://suttonlegion.org/event/clubroom-open-69-2-7-3/2026-07-21/
LOCATION:Sutton Legion Branch 356\, 21 East Street\, Sutton\, Ontario\, L0E 1R0\, Canada
END:VEVENT
BEGIN:VEVENT
DTSTART;TZID=America/Toronto:20260721T180000
DTEND;TZID=America/Toronto:20260721T200000
DTSTAMP:20260423T152503
CREATED:20260114T190929Z
LAST-MODIFIED:20260114T190929Z
UID:10002957-1784656800-1784664000@suttonlegion.org
SUMMARY:Song Circle
DESCRIPTION:Bring your Instruments or sit back and enjoy
URL:https://suttonlegion.org/event/song-circle/2026-07-21/
LOCATION:Sutton Legion Branch 356\, 21 East Street\, Sutton\, Ontario\, L0E 1R0\, Canada
END:VEVENT
BEGIN:VEVENT
DTSTART;TZID=America/Toronto:20260722T150000
DTEND;TZID=America/Toronto:20260722T210000
DTSTAMP:20260423T152503
CREATED:20251209T182621Z
LAST-MODIFIED:20251209T182708Z
UID:10000692-1784732400-1784754000@suttonlegion.org
SUMMARY:Clubroom Open
DESCRIPTION:Stop by for a drink and to socialize.
URL:https://suttonlegion.org/event/clubroom-open-70-5-2/2026-07-22/
LOCATION:Sutton Legion Branch 356\, 21 East Street\, Sutton\, Ontario\, L0E 1R0\, Canada
END:VEVENT
BEGIN:VEVENT
DTSTART;TZID=America/Toronto:20260722T190000
DTEND;TZID=America/Toronto:20260722T220000
DTSTAMP:20260423T152503
CREATED:20251209T182321Z
LAST-MODIFIED:20251209T182321Z
UID:10002432-1784746800-1784757600@suttonlegion.org
SUMMARY:Progressive Euchre
DESCRIPTION:Join us every Wednesday for Progressive Euchre.
URL:https://suttonlegion.org/event/progressive-euchre-2/2026-07-22/
LOCATION:Sutton Legion Branch 356\, 21 East Street\, Sutton\, Ontario\, L0E 1R0\, Canada
END:VEVENT
BEGIN:VEVENT
DTSTART;TZID=America/Toronto:20260723T150000
DTEND;TZID=America/Toronto:20260723T210000
DTSTAMP:20260423T152503
CREATED:20260115T190337Z
LAST-MODIFIED:20260115T190338Z
UID:10000953-1784818800-1784840400@suttonlegion.org
SUMMARY:Clubroom Open
DESCRIPTION:Stop by for a drink and to socialize.
URL:https://suttonlegion.org/event/clubroom-open-71-2-6/2026-07-23/
LOCATION:Sutton Legion Branch 356\, 21 East Street\, Sutton\, Ontario\, L0E 1R0\, Canada
END:VEVENT
BEGIN:VEVENT
DTSTART;TZID=America/Toronto:20260724T150000
DTEND;TZID=America/Toronto:20260724T210000
DTSTAMP:20260423T152503
CREATED:20251210T131559Z
LAST-MODIFIED:20251210T131559Z
UID:10001214-1784905200-1784926800@suttonlegion.org
SUMMARY:Clubroom Open
DESCRIPTION:Stop by for a drink and to socialize.
URL:https://suttonlegion.org/event/clubroom-open-72-3-4/2026-07-24/
LOCATION:Sutton Legion Branch 356\, 21 East Street\, Sutton\, Ontario\, L0E 1R0\, Canada
END:VEVENT
BEGIN:VEVENT
DTSTART;TZID=America/Toronto:20260724T170000
DTEND;TZID=America/Toronto:20260724T183000
DTSTAMP:20260423T152503
CREATED:20260330T135537Z
LAST-MODIFIED:20260330T135605Z
UID:10002910-1784912400-1784917800@suttonlegion.org
SUMMARY:Friday Night Dinner
DESCRIPTION:Join us for scrumptious and cost friendly meals. $18 per meal unless otherwise indicated. Eat in or take out\, while supplies last. \nSee Facebook or the Legion Club Room for monthly menus. \n \n  \n 
URL:https://suttonlegion.org/event/friday-night-dinners-2/2026-07-24/
LOCATION:Sutton Legion Branch 356\, 21 East Street\, Sutton\, Ontario\, L0E 1R0\, Canada
END:VEVENT
BEGIN:VEVENT
DTSTART;TZID=America/Toronto:20260725T120000
DTEND;TZID=America/Toronto:20260725T160000
DTSTAMP:20260423T152503
CREATED:20230208T234419Z
LAST-MODIFIED:20230208T234419Z
UID:10001475-1784980800-1784995200@suttonlegion.org
SUMMARY:Clubroom Open
DESCRIPTION:Stop by for a drink and to socialize.
URL:https://suttonlegion.org/event/clubroom-open-73/2026-07-25/
LOCATION:Sutton Legion Branch 356\, 21 East Street\, Sutton\, Ontario\, L0E 1R0\, Canada
END:VEVENT
BEGIN:VEVENT
DTSTART;TZID=America/Toronto:20260727T190000
DTEND;TZID=America/Toronto:20260727T210000
DTSTAMP:20260423T152503
CREATED:20230215T190820Z
LAST-MODIFIED:20230215T190820Z
UID:10001597-1785178800-1785186000@suttonlegion.org
SUMMARY:General Meeting
DESCRIPTION:Join us for our general meeting.
URL:https://suttonlegion.org/event/general-meeting-6/2026-07-27/
LOCATION:Sutton Legion Branch 356\, 21 East Street\, Sutton\, Ontario\, L0E 1R0\, Canada
END:VEVENT
BEGIN:VEVENT
DTSTART;TZID=America/Toronto:20260728T150000
DTEND;TZID=America/Toronto:20260728T210000
DTSTAMP:20260423T152503
CREATED:20260114T190322Z
LAST-MODIFIED:20260114T190323Z
UID:10001859-1785250800-1785272400@suttonlegion.org
SUMMARY:Clubroom Open
DESCRIPTION:Stop by for a drink and to socialize.
URL:https://suttonlegion.org/event/clubroom-open-69-2-7-3/2026-07-28/
LOCATION:Sutton Legion Branch 356\, 21 East Street\, Sutton\, Ontario\, L0E 1R0\, Canada
END:VEVENT
BEGIN:VEVENT
DTSTART;TZID=America/Toronto:20260728T180000
DTEND;TZID=America/Toronto:20260728T200000
DTSTAMP:20260423T152503
CREATED:20260114T190929Z
LAST-MODIFIED:20260114T190929Z
UID:10002958-1785261600-1785268800@suttonlegion.org
SUMMARY:Song Circle
DESCRIPTION:Bring your Instruments or sit back and enjoy
URL:https://suttonlegion.org/event/song-circle/2026-07-28/
LOCATION:Sutton Legion Branch 356\, 21 East Street\, Sutton\, Ontario\, L0E 1R0\, Canada
END:VEVENT
BEGIN:VEVENT
DTSTART;TZID=America/Toronto:20260729T150000
DTEND;TZID=America/Toronto:20260729T210000
DTSTAMP:20260423T152503
CREATED:20251209T182621Z
LAST-MODIFIED:20251209T182708Z
UID:10000693-1785337200-1785358800@suttonlegion.org
SUMMARY:Clubroom Open
DESCRIPTION:Stop by for a drink and to socialize.
URL:https://suttonlegion.org/event/clubroom-open-70-5-2/2026-07-29/
LOCATION:Sutton Legion Branch 356\, 21 East Street\, Sutton\, Ontario\, L0E 1R0\, Canada
END:VEVENT
BEGIN:VEVENT
DTSTART;TZID=America/Toronto:20260729T190000
DTEND;TZID=America/Toronto:20260729T220000
DTSTAMP:20260423T152503
CREATED:20251209T182321Z
LAST-MODIFIED:20251209T182321Z
UID:10002433-1785351600-1785362400@suttonlegion.org
SUMMARY:Progressive Euchre
DESCRIPTION:Join us every Wednesday for Progressive Euchre.
URL:https://suttonlegion.org/event/progressive-euchre-2/2026-07-29/
LOCATION:Sutton Legion Branch 356\, 21 East Street\, Sutton\, Ontario\, L0E 1R0\, Canada
END:VEVENT
BEGIN:VEVENT
DTSTART;TZID=America/Toronto:20260730T150000
DTEND;TZID=America/Toronto:20260730T210000
DTSTAMP:20260423T152503
CREATED:20260115T190337Z
LAST-MODIFIED:20260115T190338Z
UID:10000954-1785423600-1785445200@suttonlegion.org
SUMMARY:Clubroom Open
DESCRIPTION:Stop by for a drink and to socialize.
URL:https://suttonlegion.org/event/clubroom-open-71-2-6/2026-07-30/
LOCATION:Sutton Legion Branch 356\, 21 East Street\, Sutton\, Ontario\, L0E 1R0\, Canada
END:VEVENT
BEGIN:VEVENT
DTSTART;TZID=America/Toronto:20260731T150000
DTEND;TZID=America/Toronto:20260731T210000
DTSTAMP:20260423T152503
CREATED:20251210T131559Z
LAST-MODIFIED:20251210T131559Z
UID:10001215-1785510000-1785531600@suttonlegion.org
SUMMARY:Clubroom Open
DESCRIPTION:Stop by for a drink and to socialize.
URL:https://suttonlegion.org/event/clubroom-open-72-3-4/2026-07-31/
LOCATION:Sutton Legion Branch 356\, 21 East Street\, Sutton\, Ontario\, L0E 1R0\, Canada
END:VEVENT
BEGIN:VEVENT
DTSTART;TZID=America/Toronto:20260731T170000
DTEND;TZID=America/Toronto:20260731T183000
DTSTAMP:20260423T152503
CREATED:20260330T135537Z
LAST-MODIFIED:20260330T135605Z
UID:10002911-1785517200-1785522600@suttonlegion.org
SUMMARY:Friday Night Dinner
DESCRIPTION:Join us for scrumptious and cost friendly meals. $18 per meal unless otherwise indicated. Eat in or take out\, while supplies last. \nSee Facebook or the Legion Club Room for monthly menus. \n \n  \n 
URL:https://suttonlegion.org/event/friday-night-dinners-2/2026-07-31/
LOCATION:Sutton Legion Branch 356\, 21 East Street\, Sutton\, Ontario\, L0E 1R0\, Canada
END:VEVENT
BEGIN:VEVENT
DTSTART;TZID=America/Toronto:20260801T120000
DTEND;TZID=America/Toronto:20260801T160000
DTSTAMP:20260423T152503
CREATED:20230208T234419Z
LAST-MODIFIED:20230208T234419Z
UID:10001476-1785585600-1785600000@suttonlegion.org
SUMMARY:Clubroom Open
DESCRIPTION:Stop by for a drink and to socialize.
URL:https://suttonlegion.org/event/clubroom-open-73/2026-08-01/
LOCATION:Sutton Legion Branch 356\, 21 East Street\, Sutton\, Ontario\, L0E 1R0\, Canada
END:VEVENT
BEGIN:VEVENT
DTSTART;TZID=America/Toronto:20260804T150000
DTEND;TZID=America/Toronto:20260804T210000
DTSTAMP:20260423T152503
CREATED:20260114T190322Z
LAST-MODIFIED:20260114T190323Z
UID:10001860-1785855600-1785877200@suttonlegion.org
SUMMARY:Clubroom Open
DESCRIPTION:Stop by for a drink and to socialize.
URL:https://suttonlegion.org/event/clubroom-open-69-2-7-3/2026-08-04/
LOCATION:Sutton Legion Branch 356\, 21 East Street\, Sutton\, Ontario\, L0E 1R0\, Canada
END:VEVENT
BEGIN:VEVENT
DTSTART;TZID=America/Toronto:20260804T180000
DTEND;TZID=America/Toronto:20260804T200000
DTSTAMP:20260423T152503
CREATED:20260114T190929Z
LAST-MODIFIED:20260114T190929Z
UID:10002959-1785866400-1785873600@suttonlegion.org
SUMMARY:Song Circle
DESCRIPTION:Bring your Instruments or sit back and enjoy
URL:https://suttonlegion.org/event/song-circle/2026-08-04/
LOCATION:Sutton Legion Branch 356\, 21 East Street\, Sutton\, Ontario\, L0E 1R0\, Canada
END:VEVENT
BEGIN:VEVENT
DTSTART;TZID=America/Toronto:20260805T150000
DTEND;TZID=America/Toronto:20260805T210000
DTSTAMP:20260423T152503
CREATED:20251209T182621Z
LAST-MODIFIED:20251209T182708Z
UID:10000694-1785942000-1785963600@suttonlegion.org
SUMMARY:Clubroom Open
DESCRIPTION:Stop by for a drink and to socialize.
URL:https://suttonlegion.org/event/clubroom-open-70-5-2/2026-08-05/
LOCATION:Sutton Legion Branch 356\, 21 East Street\, Sutton\, Ontario\, L0E 1R0\, Canada
END:VEVENT
BEGIN:VEVENT
DTSTART;TZID=America/Toronto:20260805T190000
DTEND;TZID=America/Toronto:20260805T220000
DTSTAMP:20260423T152503
CREATED:20251209T182321Z
LAST-MODIFIED:20251209T182321Z
UID:10002434-1785956400-1785967200@suttonlegion.org
SUMMARY:Progressive Euchre
DESCRIPTION:Join us every Wednesday for Progressive Euchre.
URL:https://suttonlegion.org/event/progressive-euchre-2/2026-08-05/
LOCATION:Sutton Legion Branch 356\, 21 East Street\, Sutton\, Ontario\, L0E 1R0\, Canada
END:VEVENT
END:VCALENDAR