BEGIN:VCALENDAR
VERSION:2.0
PRODID:-//Sutton Legion - ECPv6.15.20//NONSGML v1.0//EN
CALSCALE:GREGORIAN
METHOD:PUBLISH
X-WR-CALNAME:Sutton Legion
X-ORIGINAL-URL:https://suttonlegion.org
X-WR-CALDESC:Events for Sutton Legion
REFRESH-INTERVAL;VALUE=DURATION:PT1H
X-Robots-Tag:noindex
X-PUBLISHED-TTL:PT1H
BEGIN:VTIMEZONE
TZID:America/Toronto
BEGIN:DAYLIGHT
TZOFFSETFROM:-0500
TZOFFSETTO:-0400
TZNAME:EDT
DTSTART:20250309T070000
END:DAYLIGHT
BEGIN:STANDARD
TZOFFSETFROM:-0400
TZOFFSETTO:-0500
TZNAME:EST
DTSTART:20251102T060000
END:STANDARD
BEGIN:DAYLIGHT
TZOFFSETFROM:-0500
TZOFFSETTO:-0400
TZNAME:EDT
DTSTART:20260308T070000
END:DAYLIGHT
BEGIN:STANDARD
TZOFFSETFROM:-0400
TZOFFSETTO:-0500
TZNAME:EST
DTSTART:20261101T060000
END:STANDARD
BEGIN:DAYLIGHT
TZOFFSETFROM:-0500
TZOFFSETTO:-0400
TZNAME:EDT
DTSTART:20270314T070000
END:DAYLIGHT
BEGIN:STANDARD
TZOFFSETFROM:-0400
TZOFFSETTO:-0500
TZNAME:EST
DTSTART:20271107T060000
END:STANDARD
END:VTIMEZONE
BEGIN:VEVENT
DTSTART;TZID=America/Toronto:20260320T150000
DTEND;TZID=America/Toronto:20260320T210000
DTSTAMP:20260423T135617
CREATED:20251210T131559Z
LAST-MODIFIED:20251210T131559Z
UID:10001196-1774018800-1774040400@suttonlegion.org
SUMMARY:Clubroom Open
DESCRIPTION:Stop by for a drink and to socialize.
URL:https://suttonlegion.org/event/clubroom-open-72-3-4/2026-03-20/
LOCATION:Sutton Legion Branch 356\, 21 East Street\, Sutton\, Ontario\, L0E 1R0\, Canada
END:VEVENT
BEGIN:VEVENT
DTSTART;TZID=America/Toronto:20260320T170000
DTEND;TZID=America/Toronto:20260320T183000
DTSTAMP:20260423T135617
CREATED:20260114T185815Z
LAST-MODIFIED:20260114T190113Z
UID:10002892-1774026000-1774031400@suttonlegion.org
SUMMARY:Friday Night Dinner
DESCRIPTION:Join us for scrumptious and cost friendly meals. $15 per meal unless otherwise indicated. Eat in or take out\, while supplies last. \nSee Facebook or the Legion Club Room for monthly menus. \n \n  \n 
URL:https://suttonlegion.org/event/friday-night-dinners/2026-03-20/
LOCATION:Sutton Legion Branch 356\, 21 East Street\, Sutton\, Ontario\, L0E 1R0\, Canada
END:VEVENT
BEGIN:VEVENT
DTSTART;TZID=America/Toronto:20260321T120000
DTEND;TZID=America/Toronto:20260321T160000
DTSTAMP:20260423T135617
CREATED:20230208T234419Z
LAST-MODIFIED:20230208T234419Z
UID:10001457-1774094400-1774108800@suttonlegion.org
SUMMARY:Clubroom Open
DESCRIPTION:Stop by for a drink and to socialize.
URL:https://suttonlegion.org/event/clubroom-open-73/2026-03-21/
LOCATION:Sutton Legion Branch 356\, 21 East Street\, Sutton\, Ontario\, L0E 1R0\, Canada
END:VEVENT
BEGIN:VEVENT
DTSTART;TZID=America/Toronto:20260323T190000
DTEND;TZID=America/Toronto:20260323T210000
DTSTAMP:20260423T135618
CREATED:20230215T190820Z
LAST-MODIFIED:20230215T190820Z
UID:10001593-1774292400-1774299600@suttonlegion.org
SUMMARY:General Meeting
DESCRIPTION:Join us for our general meeting.
URL:https://suttonlegion.org/event/general-meeting-6/2026-03-23/
LOCATION:Sutton Legion Branch 356\, 21 East Street\, Sutton\, Ontario\, L0E 1R0\, Canada
END:VEVENT
BEGIN:VEVENT
DTSTART;TZID=America/Toronto:20260324T150000
DTEND;TZID=America/Toronto:20260324T210000
DTSTAMP:20260423T135618
CREATED:20260114T190322Z
LAST-MODIFIED:20260114T190323Z
UID:10001841-1774364400-1774386000@suttonlegion.org
SUMMARY:Clubroom Open
DESCRIPTION:Stop by for a drink and to socialize.
URL:https://suttonlegion.org/event/clubroom-open-69-2-7-3/2026-03-24/
LOCATION:Sutton Legion Branch 356\, 21 East Street\, Sutton\, Ontario\, L0E 1R0\, Canada
END:VEVENT
BEGIN:VEVENT
DTSTART;TZID=America/Toronto:20260324T180000
DTEND;TZID=America/Toronto:20260324T200000
DTSTAMP:20260423T135618
CREATED:20260114T190929Z
LAST-MODIFIED:20260114T190929Z
UID:10002940-1774375200-1774382400@suttonlegion.org
SUMMARY:Song Circle
DESCRIPTION:Bring your Instruments or sit back and enjoy
URL:https://suttonlegion.org/event/song-circle/2026-03-24/
LOCATION:Sutton Legion Branch 356\, 21 East Street\, Sutton\, Ontario\, L0E 1R0\, Canada
END:VEVENT
BEGIN:VEVENT
DTSTART;TZID=America/Toronto:20260325T150000
DTEND;TZID=America/Toronto:20260325T210000
DTSTAMP:20260423T135618
CREATED:20251209T182621Z
LAST-MODIFIED:20251209T182708Z
UID:10000675-1774450800-1774472400@suttonlegion.org
SUMMARY:Clubroom Open
DESCRIPTION:Stop by for a drink and to socialize.
URL:https://suttonlegion.org/event/clubroom-open-70-5-2/2026-03-25/
LOCATION:Sutton Legion Branch 356\, 21 East Street\, Sutton\, Ontario\, L0E 1R0\, Canada
END:VEVENT
BEGIN:VEVENT
DTSTART;TZID=America/Toronto:20260325T180000
DTEND;TZID=America/Toronto:20260325T190000
DTSTAMP:20260423T135618
CREATED:20260303T213110Z
LAST-MODIFIED:20260303T213110Z
UID:10002993-1774461600-1774465200@suttonlegion.org
SUMMARY:Resilience through Wellness Yoga
DESCRIPTION:
URL:https://suttonlegion.org/event/resilience-through-wellness-yoga-3/
LOCATION:Sutton Legion Branch 356\, 21 East Street\, Sutton\, Ontario\, L0E 1R0\, Canada
END:VEVENT
BEGIN:VEVENT
DTSTART;TZID=America/Toronto:20260325T190000
DTEND;TZID=America/Toronto:20260325T220000
DTSTAMP:20260423T135618
CREATED:20251209T182321Z
LAST-MODIFIED:20251209T182321Z
UID:10002415-1774465200-1774476000@suttonlegion.org
SUMMARY:Progressive Euchre
DESCRIPTION:Join us every Wednesday for Progressive Euchre.
URL:https://suttonlegion.org/event/progressive-euchre-2/2026-03-25/
LOCATION:Sutton Legion Branch 356\, 21 East Street\, Sutton\, Ontario\, L0E 1R0\, Canada
END:VEVENT
BEGIN:VEVENT
DTSTART;TZID=America/Toronto:20260326T150000
DTEND;TZID=America/Toronto:20260326T210000
DTSTAMP:20260423T135618
CREATED:20260115T190337Z
LAST-MODIFIED:20260115T190338Z
UID:10000936-1774537200-1774558800@suttonlegion.org
SUMMARY:Clubroom Open
DESCRIPTION:Stop by for a drink and to socialize.
URL:https://suttonlegion.org/event/clubroom-open-71-2-6/2026-03-26/
LOCATION:Sutton Legion Branch 356\, 21 East Street\, Sutton\, Ontario\, L0E 1R0\, Canada
END:VEVENT
BEGIN:VEVENT
DTSTART;TZID=America/Toronto:20260327T150000
DTEND;TZID=America/Toronto:20260327T210000
DTSTAMP:20260423T135618
CREATED:20251210T131559Z
LAST-MODIFIED:20251210T131559Z
UID:10001197-1774623600-1774645200@suttonlegion.org
SUMMARY:Clubroom Open
DESCRIPTION:Stop by for a drink and to socialize.
URL:https://suttonlegion.org/event/clubroom-open-72-3-4/2026-03-27/
LOCATION:Sutton Legion Branch 356\, 21 East Street\, Sutton\, Ontario\, L0E 1R0\, Canada
END:VEVENT
BEGIN:VEVENT
DTSTART;TZID=America/Toronto:20260327T170000
DTEND;TZID=America/Toronto:20260327T183000
DTSTAMP:20260423T135618
CREATED:20260114T185815Z
LAST-MODIFIED:20260114T190113Z
UID:10002893-1774630800-1774636200@suttonlegion.org
SUMMARY:Friday Night Dinner
DESCRIPTION:Join us for scrumptious and cost friendly meals. $15 per meal unless otherwise indicated. Eat in or take out\, while supplies last. \nSee Facebook or the Legion Club Room for monthly menus. \n \n  \n 
URL:https://suttonlegion.org/event/friday-night-dinners/2026-03-27/
LOCATION:Sutton Legion Branch 356\, 21 East Street\, Sutton\, Ontario\, L0E 1R0\, Canada
END:VEVENT
BEGIN:VEVENT
DTSTART;TZID=America/Toronto:20260328T120000
DTEND;TZID=America/Toronto:20260328T160000
DTSTAMP:20260423T135618
CREATED:20230208T234419Z
LAST-MODIFIED:20230208T234419Z
UID:10001458-1774699200-1774713600@suttonlegion.org
SUMMARY:Clubroom Open
DESCRIPTION:Stop by for a drink and to socialize.
URL:https://suttonlegion.org/event/clubroom-open-73/2026-03-28/
LOCATION:Sutton Legion Branch 356\, 21 East Street\, Sutton\, Ontario\, L0E 1R0\, Canada
END:VEVENT
BEGIN:VEVENT
DTSTART;TZID=America/Toronto:20260328T130000
DTEND;TZID=America/Toronto:20260328T140000
DTSTAMP:20260423T135618
CREATED:20260303T213158Z
LAST-MODIFIED:20260303T213158Z
UID:10002995-1774702800-1774706400@suttonlegion.org
SUMMARY:Resilience through Yoga
DESCRIPTION:
URL:https://suttonlegion.org/event/resilience-through-yoga-2/
LOCATION:Sutton Legion Branch 356\, 21 East Street\, Sutton\, Ontario\, L0E 1R0\, Canada
END:VEVENT
BEGIN:VEVENT
DTSTART;TZID=America/Toronto:20260331T150000
DTEND;TZID=America/Toronto:20260331T210000
DTSTAMP:20260423T135618
CREATED:20260114T190322Z
LAST-MODIFIED:20260114T190323Z
UID:10001842-1774969200-1774990800@suttonlegion.org
SUMMARY:Clubroom Open
DESCRIPTION:Stop by for a drink and to socialize.
URL:https://suttonlegion.org/event/clubroom-open-69-2-7-3/2026-03-31/
LOCATION:Sutton Legion Branch 356\, 21 East Street\, Sutton\, Ontario\, L0E 1R0\, Canada
END:VEVENT
BEGIN:VEVENT
DTSTART;TZID=America/Toronto:20260331T180000
DTEND;TZID=America/Toronto:20260331T200000
DTSTAMP:20260423T135618
CREATED:20260114T190929Z
LAST-MODIFIED:20260114T190929Z
UID:10002941-1774980000-1774987200@suttonlegion.org
SUMMARY:Song Circle
DESCRIPTION:Bring your Instruments or sit back and enjoy
URL:https://suttonlegion.org/event/song-circle/2026-03-31/
LOCATION:Sutton Legion Branch 356\, 21 East Street\, Sutton\, Ontario\, L0E 1R0\, Canada
END:VEVENT
BEGIN:VEVENT
DTSTART;TZID=America/Toronto:20260401T150000
DTEND;TZID=America/Toronto:20260401T210000
DTSTAMP:20260423T135618
CREATED:20251209T182621Z
LAST-MODIFIED:20251209T182708Z
UID:10000676-1775055600-1775077200@suttonlegion.org
SUMMARY:Clubroom Open
DESCRIPTION:Stop by for a drink and to socialize.
URL:https://suttonlegion.org/event/clubroom-open-70-5-2/2026-04-01/
LOCATION:Sutton Legion Branch 356\, 21 East Street\, Sutton\, Ontario\, L0E 1R0\, Canada
END:VEVENT
BEGIN:VEVENT
DTSTART;TZID=America/Toronto:20260401T190000
DTEND;TZID=America/Toronto:20260401T220000
DTSTAMP:20260423T135618
CREATED:20251209T182321Z
LAST-MODIFIED:20251209T182321Z
UID:10002416-1775070000-1775080800@suttonlegion.org
SUMMARY:Progressive Euchre
DESCRIPTION:Join us every Wednesday for Progressive Euchre.
URL:https://suttonlegion.org/event/progressive-euchre-2/2026-04-01/
LOCATION:Sutton Legion Branch 356\, 21 East Street\, Sutton\, Ontario\, L0E 1R0\, Canada
END:VEVENT
BEGIN:VEVENT
DTSTART;TZID=America/Toronto:20260402T150000
DTEND;TZID=America/Toronto:20260402T210000
DTSTAMP:20260423T135618
CREATED:20260115T190337Z
LAST-MODIFIED:20260115T190338Z
UID:10000937-1775142000-1775163600@suttonlegion.org
SUMMARY:Clubroom Open
DESCRIPTION:Stop by for a drink and to socialize.
URL:https://suttonlegion.org/event/clubroom-open-71-2-6/2026-04-02/
LOCATION:Sutton Legion Branch 356\, 21 East Street\, Sutton\, Ontario\, L0E 1R0\, Canada
END:VEVENT
BEGIN:VEVENT
DTSTART;TZID=America/Toronto:20260403T150000
DTEND;TZID=America/Toronto:20260403T210000
DTSTAMP:20260423T135618
CREATED:20251210T131559Z
LAST-MODIFIED:20251210T131559Z
UID:10001198-1775228400-1775250000@suttonlegion.org
SUMMARY:Clubroom Open
DESCRIPTION:Stop by for a drink and to socialize.
URL:https://suttonlegion.org/event/clubroom-open-72-3-4/2026-04-03/
LOCATION:Sutton Legion Branch 356\, 21 East Street\, Sutton\, Ontario\, L0E 1R0\, Canada
END:VEVENT
BEGIN:VEVENT
DTSTART;TZID=America/Toronto:20260403T170000
DTEND;TZID=America/Toronto:20260403T183000
DTSTAMP:20260423T135618
CREATED:20260330T135313Z
LAST-MODIFIED:20260330T135313Z
UID:10002997-1775235600-1775241000@suttonlegion.org
SUMMARY:Friday Night Dinner - Good Friday
DESCRIPTION:Yes we are open! Serving Haddock Fish and Chips while supplies last!
URL:https://suttonlegion.org/event/friday-night-dinner-good-friday/
LOCATION:Sutton Legion Branch 356\, 21 East Street\, Sutton\, Ontario\, L0E 1R0\, Canada
END:VEVENT
BEGIN:VEVENT
DTSTART;TZID=America/Toronto:20260404T120000
DTEND;TZID=America/Toronto:20260404T160000
DTSTAMP:20260423T135618
CREATED:20230208T234419Z
LAST-MODIFIED:20230208T234419Z
UID:10001459-1775304000-1775318400@suttonlegion.org
SUMMARY:Clubroom Open
DESCRIPTION:Stop by for a drink and to socialize.
URL:https://suttonlegion.org/event/clubroom-open-73/2026-04-04/
LOCATION:Sutton Legion Branch 356\, 21 East Street\, Sutton\, Ontario\, L0E 1R0\, Canada
END:VEVENT
BEGIN:VEVENT
DTSTART;TZID=America/Toronto:20260407T150000
DTEND;TZID=America/Toronto:20260407T210000
DTSTAMP:20260423T135618
CREATED:20260114T190322Z
LAST-MODIFIED:20260114T190323Z
UID:10001843-1775574000-1775595600@suttonlegion.org
SUMMARY:Clubroom Open
DESCRIPTION:Stop by for a drink and to socialize.
URL:https://suttonlegion.org/event/clubroom-open-69-2-7-3/2026-04-07/
LOCATION:Sutton Legion Branch 356\, 21 East Street\, Sutton\, Ontario\, L0E 1R0\, Canada
END:VEVENT
BEGIN:VEVENT
DTSTART;TZID=America/Toronto:20260407T180000
DTEND;TZID=America/Toronto:20260407T200000
DTSTAMP:20260423T135618
CREATED:20260114T190929Z
LAST-MODIFIED:20260114T190929Z
UID:10002942-1775584800-1775592000@suttonlegion.org
SUMMARY:Song Circle
DESCRIPTION:Bring your Instruments or sit back and enjoy
URL:https://suttonlegion.org/event/song-circle/2026-04-07/
LOCATION:Sutton Legion Branch 356\, 21 East Street\, Sutton\, Ontario\, L0E 1R0\, Canada
END:VEVENT
BEGIN:VEVENT
DTSTART;TZID=America/Toronto:20260408T150000
DTEND;TZID=America/Toronto:20260408T210000
DTSTAMP:20260423T135618
CREATED:20251209T182621Z
LAST-MODIFIED:20251209T182708Z
UID:10000677-1775660400-1775682000@suttonlegion.org
SUMMARY:Clubroom Open
DESCRIPTION:Stop by for a drink and to socialize.
URL:https://suttonlegion.org/event/clubroom-open-70-5-2/2026-04-08/
LOCATION:Sutton Legion Branch 356\, 21 East Street\, Sutton\, Ontario\, L0E 1R0\, Canada
END:VEVENT
BEGIN:VEVENT
DTSTART;TZID=America/Toronto:20260408T190000
DTEND;TZID=America/Toronto:20260408T220000
DTSTAMP:20260423T135618
CREATED:20251209T182321Z
LAST-MODIFIED:20251209T182321Z
UID:10002417-1775674800-1775685600@suttonlegion.org
SUMMARY:Progressive Euchre
DESCRIPTION:Join us every Wednesday for Progressive Euchre.
URL:https://suttonlegion.org/event/progressive-euchre-2/2026-04-08/
LOCATION:Sutton Legion Branch 356\, 21 East Street\, Sutton\, Ontario\, L0E 1R0\, Canada
END:VEVENT
BEGIN:VEVENT
DTSTART;TZID=America/Toronto:20260409T150000
DTEND;TZID=America/Toronto:20260409T210000
DTSTAMP:20260423T135618
CREATED:20260115T190337Z
LAST-MODIFIED:20260115T190338Z
UID:10000938-1775746800-1775768400@suttonlegion.org
SUMMARY:Clubroom Open
DESCRIPTION:Stop by for a drink and to socialize.
URL:https://suttonlegion.org/event/clubroom-open-71-2-6/2026-04-09/
LOCATION:Sutton Legion Branch 356\, 21 East Street\, Sutton\, Ontario\, L0E 1R0\, Canada
END:VEVENT
BEGIN:VEVENT
DTSTART;TZID=America/Toronto:20260410T150000
DTEND;TZID=America/Toronto:20260410T210000
DTSTAMP:20260423T135618
CREATED:20251210T131559Z
LAST-MODIFIED:20251210T131559Z
UID:10001199-1775833200-1775854800@suttonlegion.org
SUMMARY:Clubroom Open
DESCRIPTION:Stop by for a drink and to socialize.
URL:https://suttonlegion.org/event/clubroom-open-72-3-4/2026-04-10/
LOCATION:Sutton Legion Branch 356\, 21 East Street\, Sutton\, Ontario\, L0E 1R0\, Canada
END:VEVENT
BEGIN:VEVENT
DTSTART;TZID=America/Toronto:20260410T170000
DTEND;TZID=America/Toronto:20260410T183000
DTSTAMP:20260423T135618
CREATED:20260330T135537Z
LAST-MODIFIED:20260330T135605Z
UID:10002895-1775840400-1775845800@suttonlegion.org
SUMMARY:Friday Night Dinner
DESCRIPTION:Join us for scrumptious and cost friendly meals. $18 per meal unless otherwise indicated. Eat in or take out\, while supplies last. \nSee Facebook or the Legion Club Room for monthly menus. \n \n  \n 
URL:https://suttonlegion.org/event/friday-night-dinners-2/2026-04-10/
LOCATION:Sutton Legion Branch 356\, 21 East Street\, Sutton\, Ontario\, L0E 1R0\, Canada
END:VEVENT
BEGIN:VEVENT
DTSTART;TZID=America/Toronto:20260411T103000
DTEND;TZID=America/Toronto:20260411T170000
DTSTAMP:20260423T135618
CREATED:20260303T212726Z
LAST-MODIFIED:20260303T212726Z
UID:10002991-1775903400-1775926800@suttonlegion.org
SUMMARY:Horseshoes Mud Open
DESCRIPTION:
URL:https://suttonlegion.org/event/horseshoes-mud-open/
LOCATION:Sutton Legion Branch 356\, 21 East Street\, Sutton\, Ontario\, L0E 1R0\, Canada
END:VEVENT
END:VCALENDAR