BEGIN:VCALENDAR
VERSION:2.0
PRODID:-//Sutton Legion - ECPv6.15.20//NONSGML v1.0//EN
CALSCALE:GREGORIAN
METHOD:PUBLISH
X-WR-CALNAME:Sutton Legion
X-ORIGINAL-URL:https://suttonlegion.org
X-WR-CALDESC:Events for Sutton Legion
REFRESH-INTERVAL;VALUE=DURATION:PT1H
X-Robots-Tag:noindex
X-PUBLISHED-TTL:PT1H
BEGIN:VTIMEZONE
TZID:America/Toronto
BEGIN:DAYLIGHT
TZOFFSETFROM:-0500
TZOFFSETTO:-0400
TZNAME:EDT
DTSTART:20250309T070000
END:DAYLIGHT
BEGIN:STANDARD
TZOFFSETFROM:-0400
TZOFFSETTO:-0500
TZNAME:EST
DTSTART:20251102T060000
END:STANDARD
BEGIN:DAYLIGHT
TZOFFSETFROM:-0500
TZOFFSETTO:-0400
TZNAME:EDT
DTSTART:20260308T070000
END:DAYLIGHT
BEGIN:STANDARD
TZOFFSETFROM:-0400
TZOFFSETTO:-0500
TZNAME:EST
DTSTART:20261101T060000
END:STANDARD
BEGIN:DAYLIGHT
TZOFFSETFROM:-0500
TZOFFSETTO:-0400
TZNAME:EDT
DTSTART:20270314T070000
END:DAYLIGHT
BEGIN:STANDARD
TZOFFSETFROM:-0400
TZOFFSETTO:-0500
TZNAME:EST
DTSTART:20271107T060000
END:STANDARD
END:VTIMEZONE
BEGIN:VEVENT
DTSTART;TZID=America/Toronto:20260729T190000
DTEND;TZID=America/Toronto:20260729T220000
DTSTAMP:20260423T135516
CREATED:20251209T182321Z
LAST-MODIFIED:20251209T182321Z
UID:10002433-1785351600-1785362400@suttonlegion.org
SUMMARY:Progressive Euchre
DESCRIPTION:Join us every Wednesday for Progressive Euchre.
URL:https://suttonlegion.org/event/progressive-euchre-2/2026-07-29/
LOCATION:Sutton Legion Branch 356\, 21 East Street\, Sutton\, Ontario\, L0E 1R0\, Canada
END:VEVENT
BEGIN:VEVENT
DTSTART;TZID=America/Toronto:20260730T150000
DTEND;TZID=America/Toronto:20260730T210000
DTSTAMP:20260423T135516
CREATED:20260115T190337Z
LAST-MODIFIED:20260115T190338Z
UID:10000954-1785423600-1785445200@suttonlegion.org
SUMMARY:Clubroom Open
DESCRIPTION:Stop by for a drink and to socialize.
URL:https://suttonlegion.org/event/clubroom-open-71-2-6/2026-07-30/
LOCATION:Sutton Legion Branch 356\, 21 East Street\, Sutton\, Ontario\, L0E 1R0\, Canada
END:VEVENT
BEGIN:VEVENT
DTSTART;TZID=America/Toronto:20260731T150000
DTEND;TZID=America/Toronto:20260731T210000
DTSTAMP:20260423T135516
CREATED:20251210T131559Z
LAST-MODIFIED:20251210T131559Z
UID:10001215-1785510000-1785531600@suttonlegion.org
SUMMARY:Clubroom Open
DESCRIPTION:Stop by for a drink and to socialize.
URL:https://suttonlegion.org/event/clubroom-open-72-3-4/2026-07-31/
LOCATION:Sutton Legion Branch 356\, 21 East Street\, Sutton\, Ontario\, L0E 1R0\, Canada
END:VEVENT
BEGIN:VEVENT
DTSTART;TZID=America/Toronto:20260731T170000
DTEND;TZID=America/Toronto:20260731T183000
DTSTAMP:20260423T135516
CREATED:20260330T135537Z
LAST-MODIFIED:20260330T135605Z
UID:10002911-1785517200-1785522600@suttonlegion.org
SUMMARY:Friday Night Dinner
DESCRIPTION:Join us for scrumptious and cost friendly meals. $18 per meal unless otherwise indicated. Eat in or take out\, while supplies last. \nSee Facebook or the Legion Club Room for monthly menus. \n \n  \n 
URL:https://suttonlegion.org/event/friday-night-dinners-2/2026-07-31/
LOCATION:Sutton Legion Branch 356\, 21 East Street\, Sutton\, Ontario\, L0E 1R0\, Canada
END:VEVENT
BEGIN:VEVENT
DTSTART;TZID=America/Toronto:20260801T120000
DTEND;TZID=America/Toronto:20260801T160000
DTSTAMP:20260423T135516
CREATED:20230208T234419Z
LAST-MODIFIED:20230208T234419Z
UID:10001476-1785585600-1785600000@suttonlegion.org
SUMMARY:Clubroom Open
DESCRIPTION:Stop by for a drink and to socialize.
URL:https://suttonlegion.org/event/clubroom-open-73/2026-08-01/
LOCATION:Sutton Legion Branch 356\, 21 East Street\, Sutton\, Ontario\, L0E 1R0\, Canada
END:VEVENT
BEGIN:VEVENT
DTSTART;TZID=America/Toronto:20260804T150000
DTEND;TZID=America/Toronto:20260804T210000
DTSTAMP:20260423T135516
CREATED:20260114T190322Z
LAST-MODIFIED:20260114T190323Z
UID:10001860-1785855600-1785877200@suttonlegion.org
SUMMARY:Clubroom Open
DESCRIPTION:Stop by for a drink and to socialize.
URL:https://suttonlegion.org/event/clubroom-open-69-2-7-3/2026-08-04/
LOCATION:Sutton Legion Branch 356\, 21 East Street\, Sutton\, Ontario\, L0E 1R0\, Canada
END:VEVENT
BEGIN:VEVENT
DTSTART;TZID=America/Toronto:20260804T180000
DTEND;TZID=America/Toronto:20260804T200000
DTSTAMP:20260423T135516
CREATED:20260114T190929Z
LAST-MODIFIED:20260114T190929Z
UID:10002959-1785866400-1785873600@suttonlegion.org
SUMMARY:Song Circle
DESCRIPTION:Bring your Instruments or sit back and enjoy
URL:https://suttonlegion.org/event/song-circle/2026-08-04/
LOCATION:Sutton Legion Branch 356\, 21 East Street\, Sutton\, Ontario\, L0E 1R0\, Canada
END:VEVENT
BEGIN:VEVENT
DTSTART;TZID=America/Toronto:20260805T150000
DTEND;TZID=America/Toronto:20260805T210000
DTSTAMP:20260423T135516
CREATED:20251209T182621Z
LAST-MODIFIED:20251209T182708Z
UID:10000694-1785942000-1785963600@suttonlegion.org
SUMMARY:Clubroom Open
DESCRIPTION:Stop by for a drink and to socialize.
URL:https://suttonlegion.org/event/clubroom-open-70-5-2/2026-08-05/
LOCATION:Sutton Legion Branch 356\, 21 East Street\, Sutton\, Ontario\, L0E 1R0\, Canada
END:VEVENT
BEGIN:VEVENT
DTSTART;TZID=America/Toronto:20260805T190000
DTEND;TZID=America/Toronto:20260805T220000
DTSTAMP:20260423T135516
CREATED:20251209T182321Z
LAST-MODIFIED:20251209T182321Z
UID:10002434-1785956400-1785967200@suttonlegion.org
SUMMARY:Progressive Euchre
DESCRIPTION:Join us every Wednesday for Progressive Euchre.
URL:https://suttonlegion.org/event/progressive-euchre-2/2026-08-05/
LOCATION:Sutton Legion Branch 356\, 21 East Street\, Sutton\, Ontario\, L0E 1R0\, Canada
END:VEVENT
BEGIN:VEVENT
DTSTART;TZID=America/Toronto:20260806T150000
DTEND;TZID=America/Toronto:20260806T210000
DTSTAMP:20260423T135516
CREATED:20260115T190337Z
LAST-MODIFIED:20260115T190338Z
UID:10000955-1786028400-1786050000@suttonlegion.org
SUMMARY:Clubroom Open
DESCRIPTION:Stop by for a drink and to socialize.
URL:https://suttonlegion.org/event/clubroom-open-71-2-6/2026-08-06/
LOCATION:Sutton Legion Branch 356\, 21 East Street\, Sutton\, Ontario\, L0E 1R0\, Canada
END:VEVENT
BEGIN:VEVENT
DTSTART;TZID=America/Toronto:20260807T150000
DTEND;TZID=America/Toronto:20260807T210000
DTSTAMP:20260423T135516
CREATED:20251210T131559Z
LAST-MODIFIED:20251210T131559Z
UID:10001216-1786114800-1786136400@suttonlegion.org
SUMMARY:Clubroom Open
DESCRIPTION:Stop by for a drink and to socialize.
URL:https://suttonlegion.org/event/clubroom-open-72-3-4/2026-08-07/
LOCATION:Sutton Legion Branch 356\, 21 East Street\, Sutton\, Ontario\, L0E 1R0\, Canada
END:VEVENT
BEGIN:VEVENT
DTSTART;TZID=America/Toronto:20260807T170000
DTEND;TZID=America/Toronto:20260807T183000
DTSTAMP:20260423T135516
CREATED:20260330T135537Z
LAST-MODIFIED:20260330T135605Z
UID:10002912-1786122000-1786127400@suttonlegion.org
SUMMARY:Friday Night Dinner
DESCRIPTION:Join us for scrumptious and cost friendly meals. $18 per meal unless otherwise indicated. Eat in or take out\, while supplies last. \nSee Facebook or the Legion Club Room for monthly menus. \n \n  \n 
URL:https://suttonlegion.org/event/friday-night-dinners-2/2026-08-07/
LOCATION:Sutton Legion Branch 356\, 21 East Street\, Sutton\, Ontario\, L0E 1R0\, Canada
END:VEVENT
BEGIN:VEVENT
DTSTART;TZID=America/Toronto:20260808T120000
DTEND;TZID=America/Toronto:20260808T160000
DTSTAMP:20260423T135516
CREATED:20230208T234419Z
LAST-MODIFIED:20230208T234419Z
UID:10001477-1786190400-1786204800@suttonlegion.org
SUMMARY:Clubroom Open
DESCRIPTION:Stop by for a drink and to socialize.
URL:https://suttonlegion.org/event/clubroom-open-73/2026-08-08/
LOCATION:Sutton Legion Branch 356\, 21 East Street\, Sutton\, Ontario\, L0E 1R0\, Canada
END:VEVENT
BEGIN:VEVENT
DTSTART;TZID=America/Toronto:20260811T150000
DTEND;TZID=America/Toronto:20260811T210000
DTSTAMP:20260423T135516
CREATED:20260114T190322Z
LAST-MODIFIED:20260114T190323Z
UID:10001861-1786460400-1786482000@suttonlegion.org
SUMMARY:Clubroom Open
DESCRIPTION:Stop by for a drink and to socialize.
URL:https://suttonlegion.org/event/clubroom-open-69-2-7-3/2026-08-11/
LOCATION:Sutton Legion Branch 356\, 21 East Street\, Sutton\, Ontario\, L0E 1R0\, Canada
END:VEVENT
BEGIN:VEVENT
DTSTART;TZID=America/Toronto:20260811T180000
DTEND;TZID=America/Toronto:20260811T200000
DTSTAMP:20260423T135516
CREATED:20260114T190929Z
LAST-MODIFIED:20260114T190929Z
UID:10002960-1786471200-1786478400@suttonlegion.org
SUMMARY:Song Circle
DESCRIPTION:Bring your Instruments or sit back and enjoy
URL:https://suttonlegion.org/event/song-circle/2026-08-11/
LOCATION:Sutton Legion Branch 356\, 21 East Street\, Sutton\, Ontario\, L0E 1R0\, Canada
END:VEVENT
BEGIN:VEVENT
DTSTART;TZID=America/Toronto:20260812T150000
DTEND;TZID=America/Toronto:20260812T210000
DTSTAMP:20260423T135516
CREATED:20251209T182621Z
LAST-MODIFIED:20251209T182708Z
UID:10000695-1786546800-1786568400@suttonlegion.org
SUMMARY:Clubroom Open
DESCRIPTION:Stop by for a drink and to socialize.
URL:https://suttonlegion.org/event/clubroom-open-70-5-2/2026-08-12/
LOCATION:Sutton Legion Branch 356\, 21 East Street\, Sutton\, Ontario\, L0E 1R0\, Canada
END:VEVENT
BEGIN:VEVENT
DTSTART;TZID=America/Toronto:20260812T190000
DTEND;TZID=America/Toronto:20260812T220000
DTSTAMP:20260423T135516
CREATED:20251209T182321Z
LAST-MODIFIED:20251209T182321Z
UID:10002435-1786561200-1786572000@suttonlegion.org
SUMMARY:Progressive Euchre
DESCRIPTION:Join us every Wednesday for Progressive Euchre.
URL:https://suttonlegion.org/event/progressive-euchre-2/2026-08-12/
LOCATION:Sutton Legion Branch 356\, 21 East Street\, Sutton\, Ontario\, L0E 1R0\, Canada
END:VEVENT
BEGIN:VEVENT
DTSTART;TZID=America/Toronto:20260813T150000
DTEND;TZID=America/Toronto:20260813T210000
DTSTAMP:20260423T135516
CREATED:20260115T190337Z
LAST-MODIFIED:20260115T190338Z
UID:10000956-1786633200-1786654800@suttonlegion.org
SUMMARY:Clubroom Open
DESCRIPTION:Stop by for a drink and to socialize.
URL:https://suttonlegion.org/event/clubroom-open-71-2-6/2026-08-13/
LOCATION:Sutton Legion Branch 356\, 21 East Street\, Sutton\, Ontario\, L0E 1R0\, Canada
END:VEVENT
BEGIN:VEVENT
DTSTART;TZID=America/Toronto:20260814T150000
DTEND;TZID=America/Toronto:20260814T210000
DTSTAMP:20260423T135516
CREATED:20251210T131559Z
LAST-MODIFIED:20251210T131559Z
UID:10001217-1786719600-1786741200@suttonlegion.org
SUMMARY:Clubroom Open
DESCRIPTION:Stop by for a drink and to socialize.
URL:https://suttonlegion.org/event/clubroom-open-72-3-4/2026-08-14/
LOCATION:Sutton Legion Branch 356\, 21 East Street\, Sutton\, Ontario\, L0E 1R0\, Canada
END:VEVENT
BEGIN:VEVENT
DTSTART;TZID=America/Toronto:20260814T170000
DTEND;TZID=America/Toronto:20260814T183000
DTSTAMP:20260423T135516
CREATED:20260330T135537Z
LAST-MODIFIED:20260330T135605Z
UID:10002913-1786726800-1786732200@suttonlegion.org
SUMMARY:Friday Night Dinner
DESCRIPTION:Join us for scrumptious and cost friendly meals. $18 per meal unless otherwise indicated. Eat in or take out\, while supplies last. \nSee Facebook or the Legion Club Room for monthly menus. \n \n  \n 
URL:https://suttonlegion.org/event/friday-night-dinners-2/2026-08-14/
LOCATION:Sutton Legion Branch 356\, 21 East Street\, Sutton\, Ontario\, L0E 1R0\, Canada
END:VEVENT
BEGIN:VEVENT
DTSTART;TZID=America/Toronto:20260815T120000
DTEND;TZID=America/Toronto:20260815T160000
DTSTAMP:20260423T135516
CREATED:20230208T234419Z
LAST-MODIFIED:20230208T234419Z
UID:10001478-1786795200-1786809600@suttonlegion.org
SUMMARY:Clubroom Open
DESCRIPTION:Stop by for a drink and to socialize.
URL:https://suttonlegion.org/event/clubroom-open-73/2026-08-15/
LOCATION:Sutton Legion Branch 356\, 21 East Street\, Sutton\, Ontario\, L0E 1R0\, Canada
END:VEVENT
BEGIN:VEVENT
DTSTART;TZID=America/Toronto:20260818T150000
DTEND;TZID=America/Toronto:20260818T210000
DTSTAMP:20260423T135516
CREATED:20260114T190322Z
LAST-MODIFIED:20260114T190323Z
UID:10001862-1787065200-1787086800@suttonlegion.org
SUMMARY:Clubroom Open
DESCRIPTION:Stop by for a drink and to socialize.
URL:https://suttonlegion.org/event/clubroom-open-69-2-7-3/2026-08-18/
LOCATION:Sutton Legion Branch 356\, 21 East Street\, Sutton\, Ontario\, L0E 1R0\, Canada
END:VEVENT
BEGIN:VEVENT
DTSTART;TZID=America/Toronto:20260818T180000
DTEND;TZID=America/Toronto:20260818T200000
DTSTAMP:20260423T135516
CREATED:20260114T190929Z
LAST-MODIFIED:20260114T190929Z
UID:10002961-1787076000-1787083200@suttonlegion.org
SUMMARY:Song Circle
DESCRIPTION:Bring your Instruments or sit back and enjoy
URL:https://suttonlegion.org/event/song-circle/2026-08-18/
LOCATION:Sutton Legion Branch 356\, 21 East Street\, Sutton\, Ontario\, L0E 1R0\, Canada
END:VEVENT
BEGIN:VEVENT
DTSTART;TZID=America/Toronto:20260819T150000
DTEND;TZID=America/Toronto:20260819T210000
DTSTAMP:20260423T135516
CREATED:20251209T182621Z
LAST-MODIFIED:20251209T182708Z
UID:10000696-1787151600-1787173200@suttonlegion.org
SUMMARY:Clubroom Open
DESCRIPTION:Stop by for a drink and to socialize.
URL:https://suttonlegion.org/event/clubroom-open-70-5-2/2026-08-19/
LOCATION:Sutton Legion Branch 356\, 21 East Street\, Sutton\, Ontario\, L0E 1R0\, Canada
END:VEVENT
BEGIN:VEVENT
DTSTART;TZID=America/Toronto:20260819T190000
DTEND;TZID=America/Toronto:20260819T220000
DTSTAMP:20260423T135516
CREATED:20251209T182321Z
LAST-MODIFIED:20251209T182321Z
UID:10002436-1787166000-1787176800@suttonlegion.org
SUMMARY:Progressive Euchre
DESCRIPTION:Join us every Wednesday for Progressive Euchre.
URL:https://suttonlegion.org/event/progressive-euchre-2/2026-08-19/
LOCATION:Sutton Legion Branch 356\, 21 East Street\, Sutton\, Ontario\, L0E 1R0\, Canada
END:VEVENT
BEGIN:VEVENT
DTSTART;TZID=America/Toronto:20260820T150000
DTEND;TZID=America/Toronto:20260820T210000
DTSTAMP:20260423T135516
CREATED:20260115T190337Z
LAST-MODIFIED:20260115T190338Z
UID:10000957-1787238000-1787259600@suttonlegion.org
SUMMARY:Clubroom Open
DESCRIPTION:Stop by for a drink and to socialize.
URL:https://suttonlegion.org/event/clubroom-open-71-2-6/2026-08-20/
LOCATION:Sutton Legion Branch 356\, 21 East Street\, Sutton\, Ontario\, L0E 1R0\, Canada
END:VEVENT
BEGIN:VEVENT
DTSTART;TZID=America/Toronto:20260821T150000
DTEND;TZID=America/Toronto:20260821T210000
DTSTAMP:20260423T135516
CREATED:20251210T131559Z
LAST-MODIFIED:20251210T131559Z
UID:10001218-1787324400-1787346000@suttonlegion.org
SUMMARY:Clubroom Open
DESCRIPTION:Stop by for a drink and to socialize.
URL:https://suttonlegion.org/event/clubroom-open-72-3-4/2026-08-21/
LOCATION:Sutton Legion Branch 356\, 21 East Street\, Sutton\, Ontario\, L0E 1R0\, Canada
END:VEVENT
BEGIN:VEVENT
DTSTART;TZID=America/Toronto:20260821T170000
DTEND;TZID=America/Toronto:20260821T183000
DTSTAMP:20260423T135516
CREATED:20260330T135537Z
LAST-MODIFIED:20260330T135605Z
UID:10002914-1787331600-1787337000@suttonlegion.org
SUMMARY:Friday Night Dinner
DESCRIPTION:Join us for scrumptious and cost friendly meals. $18 per meal unless otherwise indicated. Eat in or take out\, while supplies last. \nSee Facebook or the Legion Club Room for monthly menus. \n \n  \n 
URL:https://suttonlegion.org/event/friday-night-dinners-2/2026-08-21/
LOCATION:Sutton Legion Branch 356\, 21 East Street\, Sutton\, Ontario\, L0E 1R0\, Canada
END:VEVENT
BEGIN:VEVENT
DTSTART;TZID=America/Toronto:20260822T120000
DTEND;TZID=America/Toronto:20260822T160000
DTSTAMP:20260423T135516
CREATED:20230208T234419Z
LAST-MODIFIED:20230208T234419Z
UID:10001479-1787400000-1787414400@suttonlegion.org
SUMMARY:Clubroom Open
DESCRIPTION:Stop by for a drink and to socialize.
URL:https://suttonlegion.org/event/clubroom-open-73/2026-08-22/
LOCATION:Sutton Legion Branch 356\, 21 East Street\, Sutton\, Ontario\, L0E 1R0\, Canada
END:VEVENT
BEGIN:VEVENT
DTSTART;TZID=America/Toronto:20260824T190000
DTEND;TZID=America/Toronto:20260824T210000
DTSTAMP:20260423T135516
CREATED:20230215T190820Z
LAST-MODIFIED:20230215T190820Z
UID:10001598-1787598000-1787605200@suttonlegion.org
SUMMARY:General Meeting
DESCRIPTION:Join us for our general meeting.
URL:https://suttonlegion.org/event/general-meeting-6/2026-08-24/
LOCATION:Sutton Legion Branch 356\, 21 East Street\, Sutton\, Ontario\, L0E 1R0\, Canada
END:VEVENT
END:VCALENDAR