BEGIN:VCALENDAR
VERSION:2.0
PRODID:-//Sutton Legion - ECPv6.15.20//NONSGML v1.0//EN
CALSCALE:GREGORIAN
METHOD:PUBLISH
X-ORIGINAL-URL:https://suttonlegion.org
X-WR-CALDESC:Events for Sutton Legion
REFRESH-INTERVAL;VALUE=DURATION:PT1H
X-Robots-Tag:noindex
X-PUBLISHED-TTL:PT1H
BEGIN:VTIMEZONE
TZID:America/Toronto
BEGIN:DAYLIGHT
TZOFFSETFROM:-0500
TZOFFSETTO:-0400
TZNAME:EDT
DTSTART:20250309T070000
END:DAYLIGHT
BEGIN:STANDARD
TZOFFSETFROM:-0400
TZOFFSETTO:-0500
TZNAME:EST
DTSTART:20251102T060000
END:STANDARD
BEGIN:DAYLIGHT
TZOFFSETFROM:-0500
TZOFFSETTO:-0400
TZNAME:EDT
DTSTART:20260308T070000
END:DAYLIGHT
BEGIN:STANDARD
TZOFFSETFROM:-0400
TZOFFSETTO:-0500
TZNAME:EST
DTSTART:20261101T060000
END:STANDARD
BEGIN:DAYLIGHT
TZOFFSETFROM:-0500
TZOFFSETTO:-0400
TZNAME:EDT
DTSTART:20270314T070000
END:DAYLIGHT
BEGIN:STANDARD
TZOFFSETFROM:-0400
TZOFFSETTO:-0500
TZNAME:EST
DTSTART:20271107T060000
END:STANDARD
END:VTIMEZONE
BEGIN:VEVENT
DTSTART;TZID=America/Toronto:20260909T150000
DTEND;TZID=America/Toronto:20260909T210000
DTSTAMP:20260423T151757
CREATED:20251209T182621Z
LAST-MODIFIED:20251209T182708Z
UID:10000699-1788966000-1788987600@suttonlegion.org
SUMMARY:Clubroom Open
DESCRIPTION:Stop by for a drink and to socialize.
URL:https://suttonlegion.org/event/clubroom-open-70-5-2/2026-09-09/
LOCATION:Sutton Legion Branch 356\, 21 East Street\, Sutton\, Ontario\, L0E 1R0\, Canada
END:VEVENT
BEGIN:VEVENT
DTSTART;TZID=America/Toronto:20260909T190000
DTEND;TZID=America/Toronto:20260909T220000
DTSTAMP:20260423T151757
CREATED:20251209T182321Z
LAST-MODIFIED:20251209T182321Z
UID:10002439-1788980400-1788991200@suttonlegion.org
SUMMARY:Progressive Euchre
DESCRIPTION:Join us every Wednesday for Progressive Euchre.
URL:https://suttonlegion.org/event/progressive-euchre-2/2026-09-09/
LOCATION:Sutton Legion Branch 356\, 21 East Street\, Sutton\, Ontario\, L0E 1R0\, Canada
END:VEVENT
BEGIN:VEVENT
DTSTART;TZID=America/Toronto:20260910T150000
DTEND;TZID=America/Toronto:20260910T210000
DTSTAMP:20260423T151757
CREATED:20260115T190337Z
LAST-MODIFIED:20260115T190338Z
UID:10000960-1789052400-1789074000@suttonlegion.org
SUMMARY:Clubroom Open
DESCRIPTION:Stop by for a drink and to socialize.
URL:https://suttonlegion.org/event/clubroom-open-71-2-6/2026-09-10/
LOCATION:Sutton Legion Branch 356\, 21 East Street\, Sutton\, Ontario\, L0E 1R0\, Canada
END:VEVENT
BEGIN:VEVENT
DTSTART;TZID=America/Toronto:20260911T150000
DTEND;TZID=America/Toronto:20260911T210000
DTSTAMP:20260423T151757
CREATED:20251210T131559Z
LAST-MODIFIED:20251210T131559Z
UID:10001221-1789138800-1789160400@suttonlegion.org
SUMMARY:Clubroom Open
DESCRIPTION:Stop by for a drink and to socialize.
URL:https://suttonlegion.org/event/clubroom-open-72-3-4/2026-09-11/
LOCATION:Sutton Legion Branch 356\, 21 East Street\, Sutton\, Ontario\, L0E 1R0\, Canada
END:VEVENT
BEGIN:VEVENT
DTSTART;TZID=America/Toronto:20260911T170000
DTEND;TZID=America/Toronto:20260911T183000
DTSTAMP:20260423T151757
CREATED:20260330T135537Z
LAST-MODIFIED:20260330T135605Z
UID:10002917-1789146000-1789151400@suttonlegion.org
SUMMARY:Friday Night Dinner
DESCRIPTION:Join us for scrumptious and cost friendly meals. $18 per meal unless otherwise indicated. Eat in or take out\, while supplies last. \nSee Facebook or the Legion Club Room for monthly menus. \n \n  \n 
URL:https://suttonlegion.org/event/friday-night-dinners-2/2026-09-11/
LOCATION:Sutton Legion Branch 356\, 21 East Street\, Sutton\, Ontario\, L0E 1R0\, Canada
END:VEVENT
BEGIN:VEVENT
DTSTART;TZID=America/Toronto:20260912T120000
DTEND;TZID=America/Toronto:20260912T160000
DTSTAMP:20260423T151757
CREATED:20230208T234419Z
LAST-MODIFIED:20230208T234419Z
UID:10001482-1789214400-1789228800@suttonlegion.org
SUMMARY:Clubroom Open
DESCRIPTION:Stop by for a drink and to socialize.
URL:https://suttonlegion.org/event/clubroom-open-73/2026-09-12/
LOCATION:Sutton Legion Branch 356\, 21 East Street\, Sutton\, Ontario\, L0E 1R0\, Canada
END:VEVENT
BEGIN:VEVENT
DTSTART;TZID=America/Toronto:20260915T150000
DTEND;TZID=America/Toronto:20260915T210000
DTSTAMP:20260423T151757
CREATED:20260114T190322Z
LAST-MODIFIED:20260114T190323Z
UID:10001866-1789484400-1789506000@suttonlegion.org
SUMMARY:Clubroom Open
DESCRIPTION:Stop by for a drink and to socialize.
URL:https://suttonlegion.org/event/clubroom-open-69-2-7-3/2026-09-15/
LOCATION:Sutton Legion Branch 356\, 21 East Street\, Sutton\, Ontario\, L0E 1R0\, Canada
END:VEVENT
BEGIN:VEVENT
DTSTART;TZID=America/Toronto:20260915T180000
DTEND;TZID=America/Toronto:20260915T200000
DTSTAMP:20260423T151757
CREATED:20260114T190929Z
LAST-MODIFIED:20260114T190929Z
UID:10002965-1789495200-1789502400@suttonlegion.org
SUMMARY:Song Circle
DESCRIPTION:Bring your Instruments or sit back and enjoy
URL:https://suttonlegion.org/event/song-circle/2026-09-15/
LOCATION:Sutton Legion Branch 356\, 21 East Street\, Sutton\, Ontario\, L0E 1R0\, Canada
END:VEVENT
BEGIN:VEVENT
DTSTART;TZID=America/Toronto:20260916T150000
DTEND;TZID=America/Toronto:20260916T210000
DTSTAMP:20260423T151757
CREATED:20251209T182621Z
LAST-MODIFIED:20251209T182708Z
UID:10000700-1789570800-1789592400@suttonlegion.org
SUMMARY:Clubroom Open
DESCRIPTION:Stop by for a drink and to socialize.
URL:https://suttonlegion.org/event/clubroom-open-70-5-2/2026-09-16/
LOCATION:Sutton Legion Branch 356\, 21 East Street\, Sutton\, Ontario\, L0E 1R0\, Canada
END:VEVENT
BEGIN:VEVENT
DTSTART;TZID=America/Toronto:20260916T190000
DTEND;TZID=America/Toronto:20260916T220000
DTSTAMP:20260423T151757
CREATED:20251209T182321Z
LAST-MODIFIED:20251209T182321Z
UID:10002440-1789585200-1789596000@suttonlegion.org
SUMMARY:Progressive Euchre
DESCRIPTION:Join us every Wednesday for Progressive Euchre.
URL:https://suttonlegion.org/event/progressive-euchre-2/2026-09-16/
LOCATION:Sutton Legion Branch 356\, 21 East Street\, Sutton\, Ontario\, L0E 1R0\, Canada
END:VEVENT
BEGIN:VEVENT
DTSTART;TZID=America/Toronto:20260917T150000
DTEND;TZID=America/Toronto:20260917T210000
DTSTAMP:20260423T151757
CREATED:20260115T190337Z
LAST-MODIFIED:20260115T190338Z
UID:10000961-1789657200-1789678800@suttonlegion.org
SUMMARY:Clubroom Open
DESCRIPTION:Stop by for a drink and to socialize.
URL:https://suttonlegion.org/event/clubroom-open-71-2-6/2026-09-17/
LOCATION:Sutton Legion Branch 356\, 21 East Street\, Sutton\, Ontario\, L0E 1R0\, Canada
END:VEVENT
BEGIN:VEVENT
DTSTART;TZID=America/Toronto:20260918T150000
DTEND;TZID=America/Toronto:20260918T210000
DTSTAMP:20260423T151757
CREATED:20251210T131559Z
LAST-MODIFIED:20251210T131559Z
UID:10001222-1789743600-1789765200@suttonlegion.org
SUMMARY:Clubroom Open
DESCRIPTION:Stop by for a drink and to socialize.
URL:https://suttonlegion.org/event/clubroom-open-72-3-4/2026-09-18/
LOCATION:Sutton Legion Branch 356\, 21 East Street\, Sutton\, Ontario\, L0E 1R0\, Canada
END:VEVENT
BEGIN:VEVENT
DTSTART;TZID=America/Toronto:20260918T170000
DTEND;TZID=America/Toronto:20260918T183000
DTSTAMP:20260423T151757
CREATED:20260330T135537Z
LAST-MODIFIED:20260330T135605Z
UID:10002918-1789750800-1789756200@suttonlegion.org
SUMMARY:Friday Night Dinner
DESCRIPTION:Join us for scrumptious and cost friendly meals. $18 per meal unless otherwise indicated. Eat in or take out\, while supplies last. \nSee Facebook or the Legion Club Room for monthly menus. \n \n  \n 
URL:https://suttonlegion.org/event/friday-night-dinners-2/2026-09-18/
LOCATION:Sutton Legion Branch 356\, 21 East Street\, Sutton\, Ontario\, L0E 1R0\, Canada
END:VEVENT
BEGIN:VEVENT
DTSTART;TZID=America/Toronto:20260919T120000
DTEND;TZID=America/Toronto:20260919T160000
DTSTAMP:20260423T151757
CREATED:20230208T234419Z
LAST-MODIFIED:20230208T234419Z
UID:10001483-1789819200-1789833600@suttonlegion.org
SUMMARY:Clubroom Open
DESCRIPTION:Stop by for a drink and to socialize.
URL:https://suttonlegion.org/event/clubroom-open-73/2026-09-19/
LOCATION:Sutton Legion Branch 356\, 21 East Street\, Sutton\, Ontario\, L0E 1R0\, Canada
END:VEVENT
BEGIN:VEVENT
DTSTART;TZID=America/Toronto:20260922T150000
DTEND;TZID=America/Toronto:20260922T210000
DTSTAMP:20260423T151757
CREATED:20260114T190322Z
LAST-MODIFIED:20260114T190323Z
UID:10001867-1790089200-1790110800@suttonlegion.org
SUMMARY:Clubroom Open
DESCRIPTION:Stop by for a drink and to socialize.
URL:https://suttonlegion.org/event/clubroom-open-69-2-7-3/2026-09-22/
LOCATION:Sutton Legion Branch 356\, 21 East Street\, Sutton\, Ontario\, L0E 1R0\, Canada
END:VEVENT
BEGIN:VEVENT
DTSTART;TZID=America/Toronto:20260922T180000
DTEND;TZID=America/Toronto:20260922T200000
DTSTAMP:20260423T151757
CREATED:20260114T190929Z
LAST-MODIFIED:20260114T190929Z
UID:10002966-1790100000-1790107200@suttonlegion.org
SUMMARY:Song Circle
DESCRIPTION:Bring your Instruments or sit back and enjoy
URL:https://suttonlegion.org/event/song-circle/2026-09-22/
LOCATION:Sutton Legion Branch 356\, 21 East Street\, Sutton\, Ontario\, L0E 1R0\, Canada
END:VEVENT
BEGIN:VEVENT
DTSTART;TZID=America/Toronto:20260923T150000
DTEND;TZID=America/Toronto:20260923T210000
DTSTAMP:20260423T151757
CREATED:20251209T182621Z
LAST-MODIFIED:20251209T182708Z
UID:10000701-1790175600-1790197200@suttonlegion.org
SUMMARY:Clubroom Open
DESCRIPTION:Stop by for a drink and to socialize.
URL:https://suttonlegion.org/event/clubroom-open-70-5-2/2026-09-23/
LOCATION:Sutton Legion Branch 356\, 21 East Street\, Sutton\, Ontario\, L0E 1R0\, Canada
END:VEVENT
BEGIN:VEVENT
DTSTART;TZID=America/Toronto:20260923T190000
DTEND;TZID=America/Toronto:20260923T220000
DTSTAMP:20260423T151757
CREATED:20251209T182321Z
LAST-MODIFIED:20251209T182321Z
UID:10002441-1790190000-1790200800@suttonlegion.org
SUMMARY:Progressive Euchre
DESCRIPTION:Join us every Wednesday for Progressive Euchre.
URL:https://suttonlegion.org/event/progressive-euchre-2/2026-09-23/
LOCATION:Sutton Legion Branch 356\, 21 East Street\, Sutton\, Ontario\, L0E 1R0\, Canada
END:VEVENT
BEGIN:VEVENT
DTSTART;TZID=America/Toronto:20260924T150000
DTEND;TZID=America/Toronto:20260924T210000
DTSTAMP:20260423T151757
CREATED:20260115T190337Z
LAST-MODIFIED:20260115T190338Z
UID:10000962-1790262000-1790283600@suttonlegion.org
SUMMARY:Clubroom Open
DESCRIPTION:Stop by for a drink and to socialize.
URL:https://suttonlegion.org/event/clubroom-open-71-2-6/2026-09-24/
LOCATION:Sutton Legion Branch 356\, 21 East Street\, Sutton\, Ontario\, L0E 1R0\, Canada
END:VEVENT
BEGIN:VEVENT
DTSTART;TZID=America/Toronto:20260925T150000
DTEND;TZID=America/Toronto:20260925T210000
DTSTAMP:20260423T151757
CREATED:20251210T131559Z
LAST-MODIFIED:20251210T131559Z
UID:10001223-1790348400-1790370000@suttonlegion.org
SUMMARY:Clubroom Open
DESCRIPTION:Stop by for a drink and to socialize.
URL:https://suttonlegion.org/event/clubroom-open-72-3-4/2026-09-25/
LOCATION:Sutton Legion Branch 356\, 21 East Street\, Sutton\, Ontario\, L0E 1R0\, Canada
END:VEVENT
BEGIN:VEVENT
DTSTART;TZID=America/Toronto:20260925T170000
DTEND;TZID=America/Toronto:20260925T183000
DTSTAMP:20260423T151757
CREATED:20260330T135537Z
LAST-MODIFIED:20260330T135605Z
UID:10002919-1790355600-1790361000@suttonlegion.org
SUMMARY:Friday Night Dinner
DESCRIPTION:Join us for scrumptious and cost friendly meals. $18 per meal unless otherwise indicated. Eat in or take out\, while supplies last. \nSee Facebook or the Legion Club Room for monthly menus. \n \n  \n 
URL:https://suttonlegion.org/event/friday-night-dinners-2/2026-09-25/
LOCATION:Sutton Legion Branch 356\, 21 East Street\, Sutton\, Ontario\, L0E 1R0\, Canada
END:VEVENT
BEGIN:VEVENT
DTSTART;TZID=America/Toronto:20260926T120000
DTEND;TZID=America/Toronto:20260926T160000
DTSTAMP:20260423T151757
CREATED:20230208T234419Z
LAST-MODIFIED:20230208T234419Z
UID:10001484-1790424000-1790438400@suttonlegion.org
SUMMARY:Clubroom Open
DESCRIPTION:Stop by for a drink and to socialize.
URL:https://suttonlegion.org/event/clubroom-open-73/2026-09-26/
LOCATION:Sutton Legion Branch 356\, 21 East Street\, Sutton\, Ontario\, L0E 1R0\, Canada
END:VEVENT
BEGIN:VEVENT
DTSTART;TZID=America/Toronto:20260928T190000
DTEND;TZID=America/Toronto:20260928T210000
DTSTAMP:20260423T151757
CREATED:20230215T190820Z
LAST-MODIFIED:20230215T190820Z
UID:10001599-1790622000-1790629200@suttonlegion.org
SUMMARY:General Meeting
DESCRIPTION:Join us for our general meeting.
URL:https://suttonlegion.org/event/general-meeting-6/2026-09-28/
LOCATION:Sutton Legion Branch 356\, 21 East Street\, Sutton\, Ontario\, L0E 1R0\, Canada
END:VEVENT
BEGIN:VEVENT
DTSTART;TZID=America/Toronto:20260929T150000
DTEND;TZID=America/Toronto:20260929T210000
DTSTAMP:20260423T151757
CREATED:20260114T190322Z
LAST-MODIFIED:20260114T190323Z
UID:10001868-1790694000-1790715600@suttonlegion.org
SUMMARY:Clubroom Open
DESCRIPTION:Stop by for a drink and to socialize.
URL:https://suttonlegion.org/event/clubroom-open-69-2-7-3/2026-09-29/
LOCATION:Sutton Legion Branch 356\, 21 East Street\, Sutton\, Ontario\, L0E 1R0\, Canada
END:VEVENT
BEGIN:VEVENT
DTSTART;TZID=America/Toronto:20260929T180000
DTEND;TZID=America/Toronto:20260929T200000
DTSTAMP:20260423T151757
CREATED:20260114T190929Z
LAST-MODIFIED:20260114T190929Z
UID:10002967-1790704800-1790712000@suttonlegion.org
SUMMARY:Song Circle
DESCRIPTION:Bring your Instruments or sit back and enjoy
URL:https://suttonlegion.org/event/song-circle/2026-09-29/
LOCATION:Sutton Legion Branch 356\, 21 East Street\, Sutton\, Ontario\, L0E 1R0\, Canada
END:VEVENT
BEGIN:VEVENT
DTSTART;TZID=America/Toronto:20260930T150000
DTEND;TZID=America/Toronto:20260930T210000
DTSTAMP:20260423T151757
CREATED:20251209T182621Z
LAST-MODIFIED:20251209T182708Z
UID:10000702-1790780400-1790802000@suttonlegion.org
SUMMARY:Clubroom Open
DESCRIPTION:Stop by for a drink and to socialize.
URL:https://suttonlegion.org/event/clubroom-open-70-5-2/2026-09-30/
LOCATION:Sutton Legion Branch 356\, 21 East Street\, Sutton\, Ontario\, L0E 1R0\, Canada
END:VEVENT
BEGIN:VEVENT
DTSTART;TZID=America/Toronto:20260930T190000
DTEND;TZID=America/Toronto:20260930T220000
DTSTAMP:20260423T151757
CREATED:20251209T182321Z
LAST-MODIFIED:20251209T182321Z
UID:10002442-1790794800-1790805600@suttonlegion.org
SUMMARY:Progressive Euchre
DESCRIPTION:Join us every Wednesday for Progressive Euchre.
URL:https://suttonlegion.org/event/progressive-euchre-2/2026-09-30/
LOCATION:Sutton Legion Branch 356\, 21 East Street\, Sutton\, Ontario\, L0E 1R0\, Canada
END:VEVENT
BEGIN:VEVENT
DTSTART;TZID=America/Toronto:20261001T150000
DTEND;TZID=America/Toronto:20261001T210000
DTSTAMP:20260423T151757
CREATED:20260115T190337Z
LAST-MODIFIED:20260115T190338Z
UID:10000963-1790866800-1790888400@suttonlegion.org
SUMMARY:Clubroom Open
DESCRIPTION:Stop by for a drink and to socialize.
URL:https://suttonlegion.org/event/clubroom-open-71-2-6/2026-10-01/
LOCATION:Sutton Legion Branch 356\, 21 East Street\, Sutton\, Ontario\, L0E 1R0\, Canada
END:VEVENT
BEGIN:VEVENT
DTSTART;TZID=America/Toronto:20261002T150000
DTEND;TZID=America/Toronto:20261002T210000
DTSTAMP:20260423T151757
CREATED:20251210T131559Z
LAST-MODIFIED:20251210T131559Z
UID:10001224-1790953200-1790974800@suttonlegion.org
SUMMARY:Clubroom Open
DESCRIPTION:Stop by for a drink and to socialize.
URL:https://suttonlegion.org/event/clubroom-open-72-3-4/2026-10-02/
LOCATION:Sutton Legion Branch 356\, 21 East Street\, Sutton\, Ontario\, L0E 1R0\, Canada
END:VEVENT
BEGIN:VEVENT
DTSTART;TZID=America/Toronto:20261002T170000
DTEND;TZID=America/Toronto:20261002T183000
DTSTAMP:20260423T151757
CREATED:20260330T135537Z
LAST-MODIFIED:20260330T135605Z
UID:10002920-1790960400-1790965800@suttonlegion.org
SUMMARY:Friday Night Dinner
DESCRIPTION:Join us for scrumptious and cost friendly meals. $18 per meal unless otherwise indicated. Eat in or take out\, while supplies last. \nSee Facebook or the Legion Club Room for monthly menus. \n \n  \n 
URL:https://suttonlegion.org/event/friday-night-dinners-2/2026-10-02/
LOCATION:Sutton Legion Branch 356\, 21 East Street\, Sutton\, Ontario\, L0E 1R0\, Canada
END:VEVENT
END:VCALENDAR