BEGIN:VCALENDAR
VERSION:2.0
PRODID:-//Sutton Legion - ECPv6.15.20//NONSGML v1.0//EN
CALSCALE:GREGORIAN
METHOD:PUBLISH
X-ORIGINAL-URL:https://suttonlegion.org
X-WR-CALDESC:Events for Sutton Legion
REFRESH-INTERVAL;VALUE=DURATION:PT1H
X-Robots-Tag:noindex
X-PUBLISHED-TTL:PT1H
BEGIN:VTIMEZONE
TZID:America/Toronto
BEGIN:DAYLIGHT
TZOFFSETFROM:-0500
TZOFFSETTO:-0400
TZNAME:EDT
DTSTART:20250309T070000
END:DAYLIGHT
BEGIN:STANDARD
TZOFFSETFROM:-0400
TZOFFSETTO:-0500
TZNAME:EST
DTSTART:20251102T060000
END:STANDARD
BEGIN:DAYLIGHT
TZOFFSETFROM:-0500
TZOFFSETTO:-0400
TZNAME:EDT
DTSTART:20260308T070000
END:DAYLIGHT
BEGIN:STANDARD
TZOFFSETFROM:-0400
TZOFFSETTO:-0500
TZNAME:EST
DTSTART:20261101T060000
END:STANDARD
BEGIN:DAYLIGHT
TZOFFSETFROM:-0500
TZOFFSETTO:-0400
TZNAME:EDT
DTSTART:20270314T070000
END:DAYLIGHT
BEGIN:STANDARD
TZOFFSETFROM:-0400
TZOFFSETTO:-0500
TZNAME:EST
DTSTART:20271107T060000
END:STANDARD
END:VTIMEZONE
BEGIN:VEVENT
DTSTART;TZID=America/Toronto:20260612T150000
DTEND;TZID=America/Toronto:20260612T210000
DTSTAMP:20260423T111550
CREATED:20251210T131559Z
LAST-MODIFIED:20251210T131559Z
UID:10001208-1781276400-1781298000@suttonlegion.org
SUMMARY:Clubroom Open
DESCRIPTION:Stop by for a drink and to socialize.
URL:https://suttonlegion.org/event/clubroom-open-72-3-4/2026-06-12/
LOCATION:Sutton Legion Branch 356\, 21 East Street\, Sutton\, Ontario\, L0E 1R0\, Canada
END:VEVENT
BEGIN:VEVENT
DTSTART;TZID=America/Toronto:20260612T170000
DTEND;TZID=America/Toronto:20260612T183000
DTSTAMP:20260423T111550
CREATED:20260330T135537Z
LAST-MODIFIED:20260330T135605Z
UID:10002904-1781283600-1781289000@suttonlegion.org
SUMMARY:Friday Night Dinner
DESCRIPTION:Join us for scrumptious and cost friendly meals. $18 per meal unless otherwise indicated. Eat in or take out\, while supplies last. \nSee Facebook or the Legion Club Room for monthly menus. \n \n  \n 
URL:https://suttonlegion.org/event/friday-night-dinners-2/2026-06-12/
LOCATION:Sutton Legion Branch 356\, 21 East Street\, Sutton\, Ontario\, L0E 1R0\, Canada
END:VEVENT
BEGIN:VEVENT
DTSTART;TZID=America/Toronto:20260613T120000
DTEND;TZID=America/Toronto:20260613T160000
DTSTAMP:20260423T111550
CREATED:20230208T234419Z
LAST-MODIFIED:20230208T234419Z
UID:10001469-1781352000-1781366400@suttonlegion.org
SUMMARY:Clubroom Open
DESCRIPTION:Stop by for a drink and to socialize.
URL:https://suttonlegion.org/event/clubroom-open-73/2026-06-13/
LOCATION:Sutton Legion Branch 356\, 21 East Street\, Sutton\, Ontario\, L0E 1R0\, Canada
END:VEVENT
BEGIN:VEVENT
DTSTART;TZID=America/Toronto:20260616T150000
DTEND;TZID=America/Toronto:20260616T210000
DTSTAMP:20260423T111550
CREATED:20260114T190322Z
LAST-MODIFIED:20260114T190323Z
UID:10001853-1781622000-1781643600@suttonlegion.org
SUMMARY:Clubroom Open
DESCRIPTION:Stop by for a drink and to socialize.
URL:https://suttonlegion.org/event/clubroom-open-69-2-7-3/2026-06-16/
LOCATION:Sutton Legion Branch 356\, 21 East Street\, Sutton\, Ontario\, L0E 1R0\, Canada
END:VEVENT
BEGIN:VEVENT
DTSTART;TZID=America/Toronto:20260616T180000
DTEND;TZID=America/Toronto:20260616T200000
DTSTAMP:20260423T111550
CREATED:20260114T190929Z
LAST-MODIFIED:20260114T190929Z
UID:10002952-1781632800-1781640000@suttonlegion.org
SUMMARY:Song Circle
DESCRIPTION:Bring your Instruments or sit back and enjoy
URL:https://suttonlegion.org/event/song-circle/2026-06-16/
LOCATION:Sutton Legion Branch 356\, 21 East Street\, Sutton\, Ontario\, L0E 1R0\, Canada
END:VEVENT
BEGIN:VEVENT
DTSTART;TZID=America/Toronto:20260617T150000
DTEND;TZID=America/Toronto:20260617T210000
DTSTAMP:20260423T111550
CREATED:20251209T182621Z
LAST-MODIFIED:20251209T182708Z
UID:10000687-1781708400-1781730000@suttonlegion.org
SUMMARY:Clubroom Open
DESCRIPTION:Stop by for a drink and to socialize.
URL:https://suttonlegion.org/event/clubroom-open-70-5-2/2026-06-17/
LOCATION:Sutton Legion Branch 356\, 21 East Street\, Sutton\, Ontario\, L0E 1R0\, Canada
END:VEVENT
BEGIN:VEVENT
DTSTART;TZID=America/Toronto:20260617T190000
DTEND;TZID=America/Toronto:20260617T220000
DTSTAMP:20260423T111550
CREATED:20251209T182321Z
LAST-MODIFIED:20251209T182321Z
UID:10002427-1781722800-1781733600@suttonlegion.org
SUMMARY:Progressive Euchre
DESCRIPTION:Join us every Wednesday for Progressive Euchre.
URL:https://suttonlegion.org/event/progressive-euchre-2/2026-06-17/
LOCATION:Sutton Legion Branch 356\, 21 East Street\, Sutton\, Ontario\, L0E 1R0\, Canada
END:VEVENT
BEGIN:VEVENT
DTSTART;TZID=America/Toronto:20260618T150000
DTEND;TZID=America/Toronto:20260618T210000
DTSTAMP:20260423T111550
CREATED:20260115T190337Z
LAST-MODIFIED:20260115T190338Z
UID:10000948-1781794800-1781816400@suttonlegion.org
SUMMARY:Clubroom Open
DESCRIPTION:Stop by for a drink and to socialize.
URL:https://suttonlegion.org/event/clubroom-open-71-2-6/2026-06-18/
LOCATION:Sutton Legion Branch 356\, 21 East Street\, Sutton\, Ontario\, L0E 1R0\, Canada
END:VEVENT
BEGIN:VEVENT
DTSTART;TZID=America/Toronto:20260619T150000
DTEND;TZID=America/Toronto:20260619T210000
DTSTAMP:20260423T111550
CREATED:20251210T131559Z
LAST-MODIFIED:20251210T131559Z
UID:10001209-1781881200-1781902800@suttonlegion.org
SUMMARY:Clubroom Open
DESCRIPTION:Stop by for a drink and to socialize.
URL:https://suttonlegion.org/event/clubroom-open-72-3-4/2026-06-19/
LOCATION:Sutton Legion Branch 356\, 21 East Street\, Sutton\, Ontario\, L0E 1R0\, Canada
END:VEVENT
BEGIN:VEVENT
DTSTART;TZID=America/Toronto:20260619T170000
DTEND;TZID=America/Toronto:20260619T183000
DTSTAMP:20260423T111550
CREATED:20260330T135537Z
LAST-MODIFIED:20260330T135605Z
UID:10002905-1781888400-1781893800@suttonlegion.org
SUMMARY:Friday Night Dinner
DESCRIPTION:Join us for scrumptious and cost friendly meals. $18 per meal unless otherwise indicated. Eat in or take out\, while supplies last. \nSee Facebook or the Legion Club Room for monthly menus. \n \n  \n 
URL:https://suttonlegion.org/event/friday-night-dinners-2/2026-06-19/
LOCATION:Sutton Legion Branch 356\, 21 East Street\, Sutton\, Ontario\, L0E 1R0\, Canada
END:VEVENT
BEGIN:VEVENT
DTSTART;TZID=America/Toronto:20260620T120000
DTEND;TZID=America/Toronto:20260620T160000
DTSTAMP:20260423T111550
CREATED:20230208T234419Z
LAST-MODIFIED:20230208T234419Z
UID:10001470-1781956800-1781971200@suttonlegion.org
SUMMARY:Clubroom Open
DESCRIPTION:Stop by for a drink and to socialize.
URL:https://suttonlegion.org/event/clubroom-open-73/2026-06-20/
LOCATION:Sutton Legion Branch 356\, 21 East Street\, Sutton\, Ontario\, L0E 1R0\, Canada
END:VEVENT
BEGIN:VEVENT
DTSTART;TZID=America/Toronto:20260622T190000
DTEND;TZID=America/Toronto:20260622T210000
DTSTAMP:20260423T111550
CREATED:20230215T190820Z
LAST-MODIFIED:20230215T190820Z
UID:10001596-1782154800-1782162000@suttonlegion.org
SUMMARY:General Meeting
DESCRIPTION:Join us for our general meeting.
URL:https://suttonlegion.org/event/general-meeting-6/2026-06-22/
LOCATION:Sutton Legion Branch 356\, 21 East Street\, Sutton\, Ontario\, L0E 1R0\, Canada
END:VEVENT
BEGIN:VEVENT
DTSTART;TZID=America/Toronto:20260623T150000
DTEND;TZID=America/Toronto:20260623T210000
DTSTAMP:20260423T111550
CREATED:20260114T190322Z
LAST-MODIFIED:20260114T190323Z
UID:10001854-1782226800-1782248400@suttonlegion.org
SUMMARY:Clubroom Open
DESCRIPTION:Stop by for a drink and to socialize.
URL:https://suttonlegion.org/event/clubroom-open-69-2-7-3/2026-06-23/
LOCATION:Sutton Legion Branch 356\, 21 East Street\, Sutton\, Ontario\, L0E 1R0\, Canada
END:VEVENT
BEGIN:VEVENT
DTSTART;TZID=America/Toronto:20260623T180000
DTEND;TZID=America/Toronto:20260623T200000
DTSTAMP:20260423T111550
CREATED:20260114T190929Z
LAST-MODIFIED:20260114T190929Z
UID:10002953-1782237600-1782244800@suttonlegion.org
SUMMARY:Song Circle
DESCRIPTION:Bring your Instruments or sit back and enjoy
URL:https://suttonlegion.org/event/song-circle/2026-06-23/
LOCATION:Sutton Legion Branch 356\, 21 East Street\, Sutton\, Ontario\, L0E 1R0\, Canada
END:VEVENT
BEGIN:VEVENT
DTSTART;TZID=America/Toronto:20260624T150000
DTEND;TZID=America/Toronto:20260624T210000
DTSTAMP:20260423T111550
CREATED:20251209T182621Z
LAST-MODIFIED:20251209T182708Z
UID:10000688-1782313200-1782334800@suttonlegion.org
SUMMARY:Clubroom Open
DESCRIPTION:Stop by for a drink and to socialize.
URL:https://suttonlegion.org/event/clubroom-open-70-5-2/2026-06-24/
LOCATION:Sutton Legion Branch 356\, 21 East Street\, Sutton\, Ontario\, L0E 1R0\, Canada
END:VEVENT
BEGIN:VEVENT
DTSTART;TZID=America/Toronto:20260624T190000
DTEND;TZID=America/Toronto:20260624T220000
DTSTAMP:20260423T111550
CREATED:20251209T182321Z
LAST-MODIFIED:20251209T182321Z
UID:10002428-1782327600-1782338400@suttonlegion.org
SUMMARY:Progressive Euchre
DESCRIPTION:Join us every Wednesday for Progressive Euchre.
URL:https://suttonlegion.org/event/progressive-euchre-2/2026-06-24/
LOCATION:Sutton Legion Branch 356\, 21 East Street\, Sutton\, Ontario\, L0E 1R0\, Canada
END:VEVENT
BEGIN:VEVENT
DTSTART;TZID=America/Toronto:20260625T150000
DTEND;TZID=America/Toronto:20260625T210000
DTSTAMP:20260423T111550
CREATED:20260115T190337Z
LAST-MODIFIED:20260115T190338Z
UID:10000949-1782399600-1782421200@suttonlegion.org
SUMMARY:Clubroom Open
DESCRIPTION:Stop by for a drink and to socialize.
URL:https://suttonlegion.org/event/clubroom-open-71-2-6/2026-06-25/
LOCATION:Sutton Legion Branch 356\, 21 East Street\, Sutton\, Ontario\, L0E 1R0\, Canada
END:VEVENT
BEGIN:VEVENT
DTSTART;TZID=America/Toronto:20260626T150000
DTEND;TZID=America/Toronto:20260626T210000
DTSTAMP:20260423T111550
CREATED:20251210T131559Z
LAST-MODIFIED:20251210T131559Z
UID:10001210-1782486000-1782507600@suttonlegion.org
SUMMARY:Clubroom Open
DESCRIPTION:Stop by for a drink and to socialize.
URL:https://suttonlegion.org/event/clubroom-open-72-3-4/2026-06-26/
LOCATION:Sutton Legion Branch 356\, 21 East Street\, Sutton\, Ontario\, L0E 1R0\, Canada
END:VEVENT
BEGIN:VEVENT
DTSTART;TZID=America/Toronto:20260626T170000
DTEND;TZID=America/Toronto:20260626T183000
DTSTAMP:20260423T111550
CREATED:20260330T135537Z
LAST-MODIFIED:20260330T135605Z
UID:10002906-1782493200-1782498600@suttonlegion.org
SUMMARY:Friday Night Dinner
DESCRIPTION:Join us for scrumptious and cost friendly meals. $18 per meal unless otherwise indicated. Eat in or take out\, while supplies last. \nSee Facebook or the Legion Club Room for monthly menus. \n \n  \n 
URL:https://suttonlegion.org/event/friday-night-dinners-2/2026-06-26/
LOCATION:Sutton Legion Branch 356\, 21 East Street\, Sutton\, Ontario\, L0E 1R0\, Canada
END:VEVENT
BEGIN:VEVENT
DTSTART;TZID=America/Toronto:20260627T120000
DTEND;TZID=America/Toronto:20260627T160000
DTSTAMP:20260423T111550
CREATED:20230208T234419Z
LAST-MODIFIED:20230208T234419Z
UID:10001471-1782561600-1782576000@suttonlegion.org
SUMMARY:Clubroom Open
DESCRIPTION:Stop by for a drink and to socialize.
URL:https://suttonlegion.org/event/clubroom-open-73/2026-06-27/
LOCATION:Sutton Legion Branch 356\, 21 East Street\, Sutton\, Ontario\, L0E 1R0\, Canada
END:VEVENT
BEGIN:VEVENT
DTSTART;TZID=America/Toronto:20260630T150000
DTEND;TZID=America/Toronto:20260630T210000
DTSTAMP:20260423T111550
CREATED:20260114T190322Z
LAST-MODIFIED:20260114T190323Z
UID:10001855-1782831600-1782853200@suttonlegion.org
SUMMARY:Clubroom Open
DESCRIPTION:Stop by for a drink and to socialize.
URL:https://suttonlegion.org/event/clubroom-open-69-2-7-3/2026-06-30/
LOCATION:Sutton Legion Branch 356\, 21 East Street\, Sutton\, Ontario\, L0E 1R0\, Canada
END:VEVENT
BEGIN:VEVENT
DTSTART;TZID=America/Toronto:20260630T180000
DTEND;TZID=America/Toronto:20260630T200000
DTSTAMP:20260423T111550
CREATED:20260114T190929Z
LAST-MODIFIED:20260114T190929Z
UID:10002954-1782842400-1782849600@suttonlegion.org
SUMMARY:Song Circle
DESCRIPTION:Bring your Instruments or sit back and enjoy
URL:https://suttonlegion.org/event/song-circle/2026-06-30/
LOCATION:Sutton Legion Branch 356\, 21 East Street\, Sutton\, Ontario\, L0E 1R0\, Canada
END:VEVENT
BEGIN:VEVENT
DTSTART;TZID=America/Toronto:20260701T150000
DTEND;TZID=America/Toronto:20260701T210000
DTSTAMP:20260423T111550
CREATED:20251209T182621Z
LAST-MODIFIED:20251209T182708Z
UID:10000689-1782918000-1782939600@suttonlegion.org
SUMMARY:Clubroom Open
DESCRIPTION:Stop by for a drink and to socialize.
URL:https://suttonlegion.org/event/clubroom-open-70-5-2/2026-07-01/
LOCATION:Sutton Legion Branch 356\, 21 East Street\, Sutton\, Ontario\, L0E 1R0\, Canada
END:VEVENT
BEGIN:VEVENT
DTSTART;TZID=America/Toronto:20260701T190000
DTEND;TZID=America/Toronto:20260701T220000
DTSTAMP:20260423T111550
CREATED:20251209T182321Z
LAST-MODIFIED:20251209T182321Z
UID:10002429-1782932400-1782943200@suttonlegion.org
SUMMARY:Progressive Euchre
DESCRIPTION:Join us every Wednesday for Progressive Euchre.
URL:https://suttonlegion.org/event/progressive-euchre-2/2026-07-01/
LOCATION:Sutton Legion Branch 356\, 21 East Street\, Sutton\, Ontario\, L0E 1R0\, Canada
END:VEVENT
BEGIN:VEVENT
DTSTART;TZID=America/Toronto:20260702T150000
DTEND;TZID=America/Toronto:20260702T210000
DTSTAMP:20260423T111550
CREATED:20260115T190337Z
LAST-MODIFIED:20260115T190338Z
UID:10000950-1783004400-1783026000@suttonlegion.org
SUMMARY:Clubroom Open
DESCRIPTION:Stop by for a drink and to socialize.
URL:https://suttonlegion.org/event/clubroom-open-71-2-6/2026-07-02/
LOCATION:Sutton Legion Branch 356\, 21 East Street\, Sutton\, Ontario\, L0E 1R0\, Canada
END:VEVENT
BEGIN:VEVENT
DTSTART;TZID=America/Toronto:20260703T150000
DTEND;TZID=America/Toronto:20260703T210000
DTSTAMP:20260423T111550
CREATED:20251210T131559Z
LAST-MODIFIED:20251210T131559Z
UID:10001211-1783090800-1783112400@suttonlegion.org
SUMMARY:Clubroom Open
DESCRIPTION:Stop by for a drink and to socialize.
URL:https://suttonlegion.org/event/clubroom-open-72-3-4/2026-07-03/
LOCATION:Sutton Legion Branch 356\, 21 East Street\, Sutton\, Ontario\, L0E 1R0\, Canada
END:VEVENT
BEGIN:VEVENT
DTSTART;TZID=America/Toronto:20260703T170000
DTEND;TZID=America/Toronto:20260703T183000
DTSTAMP:20260423T111550
CREATED:20260330T135537Z
LAST-MODIFIED:20260330T135605Z
UID:10002907-1783098000-1783103400@suttonlegion.org
SUMMARY:Friday Night Dinner
DESCRIPTION:Join us for scrumptious and cost friendly meals. $18 per meal unless otherwise indicated. Eat in or take out\, while supplies last. \nSee Facebook or the Legion Club Room for monthly menus. \n \n  \n 
URL:https://suttonlegion.org/event/friday-night-dinners-2/2026-07-03/
LOCATION:Sutton Legion Branch 356\, 21 East Street\, Sutton\, Ontario\, L0E 1R0\, Canada
END:VEVENT
BEGIN:VEVENT
DTSTART;TZID=America/Toronto:20260704T120000
DTEND;TZID=America/Toronto:20260704T160000
DTSTAMP:20260423T111550
CREATED:20230208T234419Z
LAST-MODIFIED:20230208T234419Z
UID:10001472-1783166400-1783180800@suttonlegion.org
SUMMARY:Clubroom Open
DESCRIPTION:Stop by for a drink and to socialize.
URL:https://suttonlegion.org/event/clubroom-open-73/2026-07-04/
LOCATION:Sutton Legion Branch 356\, 21 East Street\, Sutton\, Ontario\, L0E 1R0\, Canada
END:VEVENT
BEGIN:VEVENT
DTSTART;TZID=America/Toronto:20260707T150000
DTEND;TZID=America/Toronto:20260707T210000
DTSTAMP:20260423T111550
CREATED:20260114T190322Z
LAST-MODIFIED:20260114T190323Z
UID:10001856-1783436400-1783458000@suttonlegion.org
SUMMARY:Clubroom Open
DESCRIPTION:Stop by for a drink and to socialize.
URL:https://suttonlegion.org/event/clubroom-open-69-2-7-3/2026-07-07/
LOCATION:Sutton Legion Branch 356\, 21 East Street\, Sutton\, Ontario\, L0E 1R0\, Canada
END:VEVENT
BEGIN:VEVENT
DTSTART;TZID=America/Toronto:20260707T180000
DTEND;TZID=America/Toronto:20260707T200000
DTSTAMP:20260423T111550
CREATED:20260114T190929Z
LAST-MODIFIED:20260114T190929Z
UID:10002955-1783447200-1783454400@suttonlegion.org
SUMMARY:Song Circle
DESCRIPTION:Bring your Instruments or sit back and enjoy
URL:https://suttonlegion.org/event/song-circle/2026-07-07/
LOCATION:Sutton Legion Branch 356\, 21 East Street\, Sutton\, Ontario\, L0E 1R0\, Canada
END:VEVENT
END:VCALENDAR