BEGIN:VCALENDAR
VERSION:2.0
PRODID:-//Sutton Legion - ECPv6.15.20//NONSGML v1.0//EN
CALSCALE:GREGORIAN
METHOD:PUBLISH
X-WR-CALNAME:Sutton Legion
X-ORIGINAL-URL:https://suttonlegion.org
X-WR-CALDESC:Events for Sutton Legion
REFRESH-INTERVAL;VALUE=DURATION:PT1H
X-Robots-Tag:noindex
X-PUBLISHED-TTL:PT1H
BEGIN:VTIMEZONE
TZID:America/Toronto
BEGIN:DAYLIGHT
TZOFFSETFROM:-0500
TZOFFSETTO:-0400
TZNAME:EDT
DTSTART:20250309T070000
END:DAYLIGHT
BEGIN:STANDARD
TZOFFSETFROM:-0400
TZOFFSETTO:-0500
TZNAME:EST
DTSTART:20251102T060000
END:STANDARD
BEGIN:DAYLIGHT
TZOFFSETFROM:-0500
TZOFFSETTO:-0400
TZNAME:EDT
DTSTART:20260308T070000
END:DAYLIGHT
BEGIN:STANDARD
TZOFFSETFROM:-0400
TZOFFSETTO:-0500
TZNAME:EST
DTSTART:20261101T060000
END:STANDARD
BEGIN:DAYLIGHT
TZOFFSETFROM:-0500
TZOFFSETTO:-0400
TZNAME:EDT
DTSTART:20270314T070000
END:DAYLIGHT
BEGIN:STANDARD
TZOFFSETFROM:-0400
TZOFFSETTO:-0500
TZNAME:EST
DTSTART:20271107T060000
END:STANDARD
END:VTIMEZONE
BEGIN:VEVENT
DTSTART;TZID=America/Toronto:20260130T170000
DTEND;TZID=America/Toronto:20260130T183000
DTSTAMP:20260423T140153
CREATED:20260114T185815Z
LAST-MODIFIED:20260114T190113Z
UID:10002885-1769792400-1769797800@suttonlegion.org
SUMMARY:Friday Night Dinner
DESCRIPTION:Join us for scrumptious and cost friendly meals. $15 per meal unless otherwise indicated. Eat in or take out\, while supplies last. \nSee Facebook or the Legion Club Room for monthly menus. \n \n  \n 
URL:https://suttonlegion.org/event/friday-night-dinners/2026-01-30/
LOCATION:Sutton Legion Branch 356\, 21 East Street\, Sutton\, Ontario\, L0E 1R0\, Canada
END:VEVENT
BEGIN:VEVENT
DTSTART;TZID=America/Toronto:20260130T150000
DTEND;TZID=America/Toronto:20260130T210000
DTSTAMP:20260423T140153
CREATED:20251210T131559Z
LAST-MODIFIED:20251210T131559Z
UID:10001189-1769785200-1769806800@suttonlegion.org
SUMMARY:Clubroom Open
DESCRIPTION:Stop by for a drink and to socialize.
URL:https://suttonlegion.org/event/clubroom-open-72-3-4/2026-01-30/
LOCATION:Sutton Legion Branch 356\, 21 East Street\, Sutton\, Ontario\, L0E 1R0\, Canada
END:VEVENT
BEGIN:VEVENT
DTSTART;TZID=America/Toronto:20260129T150000
DTEND;TZID=America/Toronto:20260129T210000
DTSTAMP:20260423T140153
CREATED:20260115T190337Z
LAST-MODIFIED:20260115T190338Z
UID:10000928-1769698800-1769720400@suttonlegion.org
SUMMARY:Clubroom Open
DESCRIPTION:Stop by for a drink and to socialize.
URL:https://suttonlegion.org/event/clubroom-open-71-2-6/2026-01-29/
LOCATION:Sutton Legion Branch 356\, 21 East Street\, Sutton\, Ontario\, L0E 1R0\, Canada
END:VEVENT
BEGIN:VEVENT
DTSTART;TZID=America/Toronto:20260128T190000
DTEND;TZID=America/Toronto:20260128T220000
DTSTAMP:20260423T140153
CREATED:20251209T182321Z
LAST-MODIFIED:20251209T182321Z
UID:10002407-1769626800-1769637600@suttonlegion.org
SUMMARY:Progressive Euchre
DESCRIPTION:Join us every Wednesday for Progressive Euchre.
URL:https://suttonlegion.org/event/progressive-euchre-2/2026-01-28/
LOCATION:Sutton Legion Branch 356\, 21 East Street\, Sutton\, Ontario\, L0E 1R0\, Canada
END:VEVENT
BEGIN:VEVENT
DTSTART;TZID=America/Toronto:20260128T150000
DTEND;TZID=America/Toronto:20260128T210000
DTSTAMP:20260423T140153
CREATED:20251209T182621Z
LAST-MODIFIED:20251209T182708Z
UID:10000667-1769612400-1769634000@suttonlegion.org
SUMMARY:Clubroom Open
DESCRIPTION:Stop by for a drink and to socialize.
URL:https://suttonlegion.org/event/clubroom-open-70-5-2/2026-01-28/
LOCATION:Sutton Legion Branch 356\, 21 East Street\, Sutton\, Ontario\, L0E 1R0\, Canada
END:VEVENT
BEGIN:VEVENT
DTSTART;TZID=America/Toronto:20260127T180000
DTEND;TZID=America/Toronto:20260127T200000
DTSTAMP:20260423T140153
CREATED:20260114T190929Z
LAST-MODIFIED:20260114T190929Z
UID:10002932-1769536800-1769544000@suttonlegion.org
SUMMARY:Song Circle
DESCRIPTION:Bring your Instruments or sit back and enjoy
URL:https://suttonlegion.org/event/song-circle/2026-01-27/
LOCATION:Sutton Legion Branch 356\, 21 East Street\, Sutton\, Ontario\, L0E 1R0\, Canada
END:VEVENT
BEGIN:VEVENT
DTSTART;TZID=America/Toronto:20260127T150000
DTEND;TZID=America/Toronto:20260127T210000
DTSTAMP:20260423T140153
CREATED:20260114T190322Z
LAST-MODIFIED:20260114T190323Z
UID:10001833-1769526000-1769547600@suttonlegion.org
SUMMARY:Clubroom Open
DESCRIPTION:Stop by for a drink and to socialize.
URL:https://suttonlegion.org/event/clubroom-open-69-2-7-3/2026-01-27/
LOCATION:Sutton Legion Branch 356\, 21 East Street\, Sutton\, Ontario\, L0E 1R0\, Canada
END:VEVENT
BEGIN:VEVENT
DTSTART;TZID=America/Toronto:20260126T190000
DTEND;TZID=America/Toronto:20260126T210000
DTSTAMP:20260423T140153
CREATED:20230215T190820Z
LAST-MODIFIED:20230215T190820Z
UID:10001591-1769454000-1769461200@suttonlegion.org
SUMMARY:General Meeting
DESCRIPTION:Join us for our general meeting.
URL:https://suttonlegion.org/event/general-meeting-6/2026-01-26/
LOCATION:Sutton Legion Branch 356\, 21 East Street\, Sutton\, Ontario\, L0E 1R0\, Canada
END:VEVENT
BEGIN:VEVENT
DTSTART;TZID=America/Toronto:20260124T120000
DTEND;TZID=America/Toronto:20260124T160000
DTSTAMP:20260423T140153
CREATED:20230208T234419Z
LAST-MODIFIED:20230208T234419Z
UID:10001449-1769256000-1769270400@suttonlegion.org
SUMMARY:Clubroom Open
DESCRIPTION:Stop by for a drink and to socialize.
URL:https://suttonlegion.org/event/clubroom-open-73/2026-01-24/
LOCATION:Sutton Legion Branch 356\, 21 East Street\, Sutton\, Ontario\, L0E 1R0\, Canada
END:VEVENT
BEGIN:VEVENT
DTSTART;TZID=America/Toronto:20260123T170000
DTEND;TZID=America/Toronto:20260123T183000
DTSTAMP:20260423T140153
CREATED:20260114T185815Z
LAST-MODIFIED:20260114T190113Z
UID:10002884-1769187600-1769193000@suttonlegion.org
SUMMARY:Friday Night Dinner
DESCRIPTION:Join us for scrumptious and cost friendly meals. $15 per meal unless otherwise indicated. Eat in or take out\, while supplies last. \nSee Facebook or the Legion Club Room for monthly menus. \n \n  \n 
URL:https://suttonlegion.org/event/friday-night-dinners/2026-01-23/
LOCATION:Sutton Legion Branch 356\, 21 East Street\, Sutton\, Ontario\, L0E 1R0\, Canada
END:VEVENT
BEGIN:VEVENT
DTSTART;TZID=America/Toronto:20260123T150000
DTEND;TZID=America/Toronto:20260123T210000
DTSTAMP:20260423T140153
CREATED:20251210T131559Z
LAST-MODIFIED:20251210T131559Z
UID:10001188-1769180400-1769202000@suttonlegion.org
SUMMARY:Clubroom Open
DESCRIPTION:Stop by for a drink and to socialize.
URL:https://suttonlegion.org/event/clubroom-open-72-3-4/2026-01-23/
LOCATION:Sutton Legion Branch 356\, 21 East Street\, Sutton\, Ontario\, L0E 1R0\, Canada
END:VEVENT
BEGIN:VEVENT
DTSTART;TZID=America/Toronto:20260122T150000
DTEND;TZID=America/Toronto:20260122T210000
DTSTAMP:20260423T140153
CREATED:20260115T190337Z
LAST-MODIFIED:20260115T190338Z
UID:10000927-1769094000-1769115600@suttonlegion.org
SUMMARY:Clubroom Open
DESCRIPTION:Stop by for a drink and to socialize.
URL:https://suttonlegion.org/event/clubroom-open-71-2-6/2026-01-22/
LOCATION:Sutton Legion Branch 356\, 21 East Street\, Sutton\, Ontario\, L0E 1R0\, Canada
END:VEVENT
BEGIN:VEVENT
DTSTART;TZID=America/Toronto:20260121T190000
DTEND;TZID=America/Toronto:20260121T220000
DTSTAMP:20260423T140153
CREATED:20251209T182321Z
LAST-MODIFIED:20251209T182321Z
UID:10002406-1769022000-1769032800@suttonlegion.org
SUMMARY:Progressive Euchre
DESCRIPTION:Join us every Wednesday for Progressive Euchre.
URL:https://suttonlegion.org/event/progressive-euchre-2/2026-01-21/
LOCATION:Sutton Legion Branch 356\, 21 East Street\, Sutton\, Ontario\, L0E 1R0\, Canada
END:VEVENT
BEGIN:VEVENT
DTSTART;TZID=America/Toronto:20260121T150000
DTEND;TZID=America/Toronto:20260121T210000
DTSTAMP:20260423T140154
CREATED:20251209T182621Z
LAST-MODIFIED:20251209T182708Z
UID:10000666-1769007600-1769029200@suttonlegion.org
SUMMARY:Clubroom Open
DESCRIPTION:Stop by for a drink and to socialize.
URL:https://suttonlegion.org/event/clubroom-open-70-5-2/2026-01-21/
LOCATION:Sutton Legion Branch 356\, 21 East Street\, Sutton\, Ontario\, L0E 1R0\, Canada
END:VEVENT
BEGIN:VEVENT
DTSTART;TZID=America/Toronto:20260120T180000
DTEND;TZID=America/Toronto:20260120T200000
DTSTAMP:20260423T140154
CREATED:20260114T190929Z
LAST-MODIFIED:20260114T190929Z
UID:10002931-1768932000-1768939200@suttonlegion.org
SUMMARY:Song Circle
DESCRIPTION:Bring your Instruments or sit back and enjoy
URL:https://suttonlegion.org/event/song-circle/2026-01-20/
LOCATION:Sutton Legion Branch 356\, 21 East Street\, Sutton\, Ontario\, L0E 1R0\, Canada
END:VEVENT
BEGIN:VEVENT
DTSTART;TZID=America/Toronto:20260120T150000
DTEND;TZID=America/Toronto:20260120T210000
DTSTAMP:20260423T140154
CREATED:20260114T190322Z
LAST-MODIFIED:20260114T190323Z
UID:10001832-1768921200-1768942800@suttonlegion.org
SUMMARY:Clubroom Open
DESCRIPTION:Stop by for a drink and to socialize.
URL:https://suttonlegion.org/event/clubroom-open-69-2-7-3/2026-01-20/
LOCATION:Sutton Legion Branch 356\, 21 East Street\, Sutton\, Ontario\, L0E 1R0\, Canada
END:VEVENT
BEGIN:VEVENT
DTSTART;TZID=America/Toronto:20260117T120000
DTEND;TZID=America/Toronto:20260117T160000
DTSTAMP:20260423T140154
CREATED:20230208T234419Z
LAST-MODIFIED:20230208T234419Z
UID:10001448-1768651200-1768665600@suttonlegion.org
SUMMARY:Clubroom Open
DESCRIPTION:Stop by for a drink and to socialize.
URL:https://suttonlegion.org/event/clubroom-open-73/2026-01-17/
LOCATION:Sutton Legion Branch 356\, 21 East Street\, Sutton\, Ontario\, L0E 1R0\, Canada
END:VEVENT
BEGIN:VEVENT
DTSTART;TZID=America/Toronto:20260116T170000
DTEND;TZID=America/Toronto:20260116T183000
DTSTAMP:20260423T140154
CREATED:20260114T185815Z
LAST-MODIFIED:20260114T190113Z
UID:10002883-1768582800-1768588200@suttonlegion.org
SUMMARY:Friday Night Dinner
DESCRIPTION:Join us for scrumptious and cost friendly meals. $15 per meal unless otherwise indicated. Eat in or take out\, while supplies last. \nSee Facebook or the Legion Club Room for monthly menus. \n \n  \n 
URL:https://suttonlegion.org/event/friday-night-dinners/2026-01-16/
LOCATION:Sutton Legion Branch 356\, 21 East Street\, Sutton\, Ontario\, L0E 1R0\, Canada
END:VEVENT
BEGIN:VEVENT
DTSTART;TZID=America/Toronto:20260116T150000
DTEND;TZID=America/Toronto:20260116T210000
DTSTAMP:20260423T140154
CREATED:20251210T131559Z
LAST-MODIFIED:20251210T131559Z
UID:10001187-1768575600-1768597200@suttonlegion.org
SUMMARY:Clubroom Open
DESCRIPTION:Stop by for a drink and to socialize.
URL:https://suttonlegion.org/event/clubroom-open-72-3-4/2026-01-16/
LOCATION:Sutton Legion Branch 356\, 21 East Street\, Sutton\, Ontario\, L0E 1R0\, Canada
END:VEVENT
BEGIN:VEVENT
DTSTART;TZID=America/Toronto:20260115T150000
DTEND;TZID=America/Toronto:20260115T210000
DTSTAMP:20260423T140154
CREATED:20260115T190518Z
LAST-MODIFIED:20260115T190547Z
UID:10000926-1768489200-1768510800@suttonlegion.org
SUMMARY:Clubroom Closed due to weather
DESCRIPTION:
URL:https://suttonlegion.org/event/clubroom-open-75/
LOCATION:Sutton Legion Branch 356\, 21 East Street\, Sutton\, Ontario\, L0E 1R0\, Canada
END:VEVENT
BEGIN:VEVENT
DTSTART;TZID=America/Toronto:20260114T190000
DTEND;TZID=America/Toronto:20260114T220000
DTSTAMP:20260423T140154
CREATED:20251209T182321Z
LAST-MODIFIED:20251209T182321Z
UID:10002405-1768417200-1768428000@suttonlegion.org
SUMMARY:Progressive Euchre
DESCRIPTION:Join us every Wednesday for Progressive Euchre.
URL:https://suttonlegion.org/event/progressive-euchre-2/2026-01-14/
LOCATION:Sutton Legion Branch 356\, 21 East Street\, Sutton\, Ontario\, L0E 1R0\, Canada
END:VEVENT
BEGIN:VEVENT
DTSTART;TZID=America/Toronto:20260114T150000
DTEND;TZID=America/Toronto:20260114T210000
DTSTAMP:20260423T140154
CREATED:20251209T182621Z
LAST-MODIFIED:20251209T182708Z
UID:10000665-1768402800-1768424400@suttonlegion.org
SUMMARY:Clubroom Open
DESCRIPTION:Stop by for a drink and to socialize.
URL:https://suttonlegion.org/event/clubroom-open-70-5-2/2026-01-14/
LOCATION:Sutton Legion Branch 356\, 21 East Street\, Sutton\, Ontario\, L0E 1R0\, Canada
END:VEVENT
BEGIN:VEVENT
DTSTART;TZID=America/Toronto:20260113T150000
DTEND;TZID=America/Toronto:20260113T210000
DTSTAMP:20260423T140154
CREATED:20251210T012839Z
LAST-MODIFIED:20251210T012840Z
UID:10001831-1768316400-1768338000@suttonlegion.org
SUMMARY:Clubroom Open
DESCRIPTION:Stop by for a drink and to socialize.
URL:https://suttonlegion.org/event/clubroom-open-69-2-7/2026-01-13/
LOCATION:Sutton Legion Branch 356\, 21 East Street\, Sutton\, Ontario\, L0E 1R0\, Canada
END:VEVENT
BEGIN:VEVENT
DTSTART;TZID=America/Toronto:20260110T120000
DTEND;TZID=America/Toronto:20260110T160000
DTSTAMP:20260423T140154
CREATED:20230208T234419Z
LAST-MODIFIED:20230208T234419Z
UID:10001447-1768046400-1768060800@suttonlegion.org
SUMMARY:Clubroom Open
DESCRIPTION:Stop by for a drink and to socialize.
URL:https://suttonlegion.org/event/clubroom-open-73/2026-01-10/
LOCATION:Sutton Legion Branch 356\, 21 East Street\, Sutton\, Ontario\, L0E 1R0\, Canada
END:VEVENT
BEGIN:VEVENT
DTSTART;TZID=America/Toronto:20260109T150000
DTEND;TZID=America/Toronto:20260109T210000
DTSTAMP:20260423T140154
CREATED:20251210T131559Z
LAST-MODIFIED:20251210T131559Z
UID:10001186-1767970800-1767992400@suttonlegion.org
SUMMARY:Clubroom Open
DESCRIPTION:Stop by for a drink and to socialize.
URL:https://suttonlegion.org/event/clubroom-open-72-3-4/2026-01-09/
LOCATION:Sutton Legion Branch 356\, 21 East Street\, Sutton\, Ontario\, L0E 1R0\, Canada
END:VEVENT
BEGIN:VEVENT
DTSTART;TZID=America/Toronto:20260108T150000
DTEND;TZID=America/Toronto:20260108T210000
DTSTAMP:20260423T140154
CREATED:20230419T182227Z
LAST-MODIFIED:20230419T182228Z
UID:10000925-1767884400-1767906000@suttonlegion.org
SUMMARY:Clubroom Open
DESCRIPTION:Stop by for a drink and to socialize.
URL:https://suttonlegion.org/event/clubroom-open-71-2/2026-01-08/
LOCATION:Sutton Legion Branch 356\, 21 East Street\, Sutton\, Ontario\, L0E 1R0\, Canada
END:VEVENT
BEGIN:VEVENT
DTSTART;TZID=America/Toronto:20260107T190000
DTEND;TZID=America/Toronto:20260107T220000
DTSTAMP:20260423T140154
CREATED:20251209T182321Z
LAST-MODIFIED:20251209T182321Z
UID:10002404-1767812400-1767823200@suttonlegion.org
SUMMARY:Progressive Euchre
DESCRIPTION:Join us every Wednesday for Progressive Euchre.
URL:https://suttonlegion.org/event/progressive-euchre-2/2026-01-07/
LOCATION:Sutton Legion Branch 356\, 21 East Street\, Sutton\, Ontario\, L0E 1R0\, Canada
END:VEVENT
BEGIN:VEVENT
DTSTART;TZID=America/Toronto:20260107T150000
DTEND;TZID=America/Toronto:20260107T210000
DTSTAMP:20260423T140154
CREATED:20251209T182621Z
LAST-MODIFIED:20251209T182708Z
UID:10000664-1767798000-1767819600@suttonlegion.org
SUMMARY:Clubroom Open
DESCRIPTION:Stop by for a drink and to socialize.
URL:https://suttonlegion.org/event/clubroom-open-70-5-2/2026-01-07/
LOCATION:Sutton Legion Branch 356\, 21 East Street\, Sutton\, Ontario\, L0E 1R0\, Canada
END:VEVENT
BEGIN:VEVENT
DTSTART;TZID=America/Toronto:20260106T150000
DTEND;TZID=America/Toronto:20260106T210000
DTSTAMP:20260423T140154
CREATED:20251210T012839Z
LAST-MODIFIED:20251210T012840Z
UID:10001830-1767711600-1767733200@suttonlegion.org
SUMMARY:Clubroom Open
DESCRIPTION:Stop by for a drink and to socialize.
URL:https://suttonlegion.org/event/clubroom-open-69-2-7/2026-01-06/
LOCATION:Sutton Legion Branch 356\, 21 East Street\, Sutton\, Ontario\, L0E 1R0\, Canada
END:VEVENT
BEGIN:VEVENT
DTSTART;TZID=America/Toronto:20260103T120000
DTEND;TZID=America/Toronto:20260103T160000
DTSTAMP:20260423T140154
CREATED:20230208T234419Z
LAST-MODIFIED:20230208T234419Z
UID:10001446-1767441600-1767456000@suttonlegion.org
SUMMARY:Clubroom Open
DESCRIPTION:Stop by for a drink and to socialize.
URL:https://suttonlegion.org/event/clubroom-open-73/2026-01-03/
LOCATION:Sutton Legion Branch 356\, 21 East Street\, Sutton\, Ontario\, L0E 1R0\, Canada
END:VEVENT
END:VCALENDAR