BEGIN:VCALENDAR
VERSION:2.0
PRODID:-//Sutton Legion - ECPv6.15.20//NONSGML v1.0//EN
CALSCALE:GREGORIAN
METHOD:PUBLISH
X-WR-CALNAME:Sutton Legion
X-ORIGINAL-URL:https://suttonlegion.org
X-WR-CALDESC:Events for Sutton Legion
REFRESH-INTERVAL;VALUE=DURATION:PT1H
X-Robots-Tag:noindex
X-PUBLISHED-TTL:PT1H
BEGIN:VTIMEZONE
TZID:America/Toronto
BEGIN:DAYLIGHT
TZOFFSETFROM:-0500
TZOFFSETTO:-0400
TZNAME:EDT
DTSTART:20250309T070000
END:DAYLIGHT
BEGIN:STANDARD
TZOFFSETFROM:-0400
TZOFFSETTO:-0500
TZNAME:EST
DTSTART:20251102T060000
END:STANDARD
BEGIN:DAYLIGHT
TZOFFSETFROM:-0500
TZOFFSETTO:-0400
TZNAME:EDT
DTSTART:20260308T070000
END:DAYLIGHT
BEGIN:STANDARD
TZOFFSETFROM:-0400
TZOFFSETTO:-0500
TZNAME:EST
DTSTART:20261101T060000
END:STANDARD
BEGIN:DAYLIGHT
TZOFFSETFROM:-0500
TZOFFSETTO:-0400
TZNAME:EDT
DTSTART:20270314T070000
END:DAYLIGHT
BEGIN:STANDARD
TZOFFSETFROM:-0400
TZOFFSETTO:-0500
TZNAME:EST
DTSTART:20271107T060000
END:STANDARD
END:VTIMEZONE
BEGIN:VEVENT
DTSTART;TZID=America/Toronto:20260131T120000
DTEND;TZID=America/Toronto:20260131T160000
DTSTAMP:20260423T111239
CREATED:20230208T234419Z
LAST-MODIFIED:20230208T234419Z
UID:10001450-1769860800-1769875200@suttonlegion.org
SUMMARY:Clubroom Open
DESCRIPTION:Stop by for a drink and to socialize.
URL:https://suttonlegion.org/event/clubroom-open-73/2026-01-31/
LOCATION:Sutton Legion Branch 356\, 21 East Street\, Sutton\, Ontario\, L0E 1R0\, Canada
END:VEVENT
BEGIN:VEVENT
DTSTART;TZID=America/Toronto:20260131T170000
DTEND;TZID=America/Toronto:20260131T210000
DTSTAMP:20260423T111239
CREATED:20260115T185544Z
LAST-MODIFIED:20260115T185936Z
UID:10002980-1769878800-1769893200@suttonlegion.org
SUMMARY:Trivia Night Hosted by Georgina Together Trivia
DESCRIPTION:In support of Shine Through the Rain Foundation. Register with Georgina Together Trivia in advance \n \n 
URL:https://suttonlegion.org/event/trivia-night-hosted-by-georgina-together-trivia/
LOCATION:Sutton Legion Branch 356\, 21 East Street\, Sutton\, Ontario\, L0E 1R0\, Canada
END:VEVENT
END:VCALENDAR